Workbook

Sheet 0000

Sheet แบบ ปร.5
A1: สรุปผลการประมาณราคาค่าก่อสร้าง
A2: ส่วนราชการ | B2: ='แบบ ปร.6'!$A$4 -> สำนักบริหารจัดการน้ำ กรมทรัพยากรน้ำ
A3: ประเภท | B3: งานอาคาร
A4: เจ้าของอาคาร
A5: ='แบบ ปร.6'!$A$2 -> สถานที่ก่อสร้าง
A6: หน่วยงานออกแบบแปลนและรายการ | C6: ='แบบ ปร.6'!$A$4 -> สำนักบริหารจัดการน้ำ กรมทรัพยากรน้ำ
A7: แบบเลขที่ | B7: 10008,11007-2,12020,13015,4001,4003/1,4004/1, 4004/2, 4005,4006/1 พร้อมด้วยรายการฯ เฉพาะแห่ง,รายการฯ ทั่วไป และ.................
A8: ประมาณราคาตามแบบ ปร.4 | C8: จำนวน | E8: แผ่น
A9: ประมาณราคาเมื่อวันที่ | C9: ='แบบ ปร.6'!$C$5 -> 37950
A11: ลำดับที่ | B11: รายการ | D11: ค่าวัสดุและค่าแรงงานรวมเป็นเงิน (บาท) | E11: FACTOR F | F11: ค่าก่อสร้างทั้งหมดรวมเป็นเงิน (บาท) | G11: หมายเหตุ
A12: 1 | B12: ประเภทงานอาคาร | D12: ='แบบ ปร.6'!$C$26 -> #REF! | E12: ='แบบ ปร.6'!$G$38 -> #REF! | F12: =D12*E12 -> #REF!
A13: 2 | B13: ประเภทงานทาง | D13: ='แบบ ปร.6'!$C$29 -> #REF! | E13: 1.3016 | F13: =D13*E13 -> #REF!
A14: 3 | B14: ประเภทงานชลประทาน
A15: 4 | B15: ประเภทงานสะพานและท่อเหลี่ยม
A16: 5 | B16: ประเภทงานไม่พิจารณาปรับราคา | D16: ='แบบ ปร.6'!$C$62 -> #REF! | E16: 1.07 | F16: =D16*E16 -> #REF!
B17: เงื่อนไข
B18: เงินล่วงหน้าจ่าย | C18: 0.15
B19: เงินประกันผลงานหัก | C19: 0
B20: ดอกเบี้ยเงินกู้ | C20: 0.07
B21: ดอกเบี้ยเงินฝาก
A22: สรุป | B22: รวมค่าก่อสร้างเป็นเงินทั้งสิ้น | F22: =SUM(F12:F21) -> #REF!
B23: คิดเป็นเงินประมาณการ | F23: =ROUNDDOWN(F22,-3) -> #REF!
A24: ตัวอักษร | F24: =BAHTTEXT(F23) -> #REF!
A27: ประมาณราคาโดย…………………………………………………… ตรวจ…………………………………………………..
A28: (………………………………………………....) (………………………………………………...)
A30: ตรวจ…………………………………………………… เห็นชอบ………………….…………………………..
A31: (………………………………………………....) (………………………………………………...)

Sheet แบบ ปร.6
A1: รายประมาณการค่าก่อสร้าง ระบบประปาหมู่บ้านแบบบาดาลขนาดกลาง ประจำปีงบประมาณ 2546
A2: สถานที่ก่อสร้าง
A3: แบบเลขที่ | B3: 10008,11007-2,12020,13015,4001,4003/1,4004/1, 4004/2, 4005,4006/1 พร้อมด้วยรายการฯ เฉพาะแห่ง,รายการฯ ทั่วไป และ........................... | C3: รายการเลขที่
A4: สำนักบริหารจัดการน้ำ กรมทรัพยากรน้ำ
A5: ประมาณราคาเมื่อวันที่ | C5: 37950
A7: ลำดับที่ | B7: รายการ | C7: ค่าก่อสร้าง (บาท) | D7: หมายเหตุ
A8: 1 | B8: ประเภทงานอาคาร
B9: 1.1 ทดสอบการรับน้ำหนักบรรทุกของดินจำนวน 1 จุด | C9: =ทดสอบดิน!$J$13 -> 13500
B10: 1.2 โรงสูบน้ำ | C10: =#REF! -> #REF!
B11: 1.3 ระบบกรองน้ำบาดาลขนาด 7 ม.3/ชม. (ตอกเข็ม) | C11: =#REF! -> #REF!
B12: 1.4 ถังน้ำใสขนาด 20 ม.3 (ตอกเข็ม) | C12: =#REF! -> #REF!
B13: 1.5 ป้ายบอกระดับน้ำในถังน้ำใส | C13: =#REF! -> #REF!
B14: 1.6 หอถังสูงขนาด 15 ม.3 (ตอกเข็ม) | C14: =#REF! -> #REF!
B15: 1.7 รั้ว,ประตูรั้ว (15 x 15 ม.) | C15: =#REF! -> #REF!
B16: 1.8 ป้ายการประปา | C16: =#REF! -> #REF!
B17: 1.9 ระบบท่อส่งน้ำดิบ | C17: ='ท่อส่งน้ำดิบ '!$J$31 -> 86400
B18: 1.10 เครื่องสูบน้ำบาดาลพร้อมอุปกรณ์ควบคุมจำนวน 1 ชุด | C18: =#REF! -> #REF!
B19: 1.11 เครื่องสูบน้ำดีพร้อมอุปกรณ์ควบคุมจำนวน 2 ชุด | C19: =#REF! -> #REF!
B20: 1.12 การประสานท่อระหว่างระบบ | C20: =#REF! -> #REF!
B21: 1.13 การประสานท่อที่ปากบ่อบาดาล | C21: =#REF! -> #REF!
B22: 1.14 การประสานท่อภายในโรงสูบน้ำดี 2 ชุด | C22: =#REF! -> #REF!
B23: 1.15 การประสานระบบไฟฟ้า (ภายใน) | C23: ='ไฟฟ้า '!$J$39 -> 11250
B24: 1.16 ติดตั้งระบบจ่ายสารละลายคลอรีน | C24: =#REF! -> #REF!
B25: 1.17 รางระบายน้ำ | C25: =#REF! -> #REF!
B26: รวมเงิน (1) | C26: =SUM(C8:C25) -> #REF!
A27: 2 | B27: ประเภทงานทาง
B28: 2.1 ระบบท่อจ่ายน้ำประปา | C28: =#REF! -> #REF!
B29: รวมเงิน (2) | C29: =SUM(C27:C28) -> #REF!
B31: ยอดยกไป | C31: =C26+C29 -> #REF!
F32: ค่างาน | G32: FACTOR F | H32: (ผลต่างค่างาน) | I32: (ผลต่างค่า F)
F33: ='[1]FACTOR F'!B11 -> 0.5 | G33: ='[1]FACTOR F'!I11 -> 1.2581 | H33: =F34-F33 -> 0.5 | I33: =G34-G33 -> 0
F34: ='[1]FACTOR F'!B12 -> 1 | G34: ='[1]FACTOR F'!I12 -> 1.2581 | H34: =F35-F34 -> 1 | I34: =G35-G34 -> -0.0027
F35: ='[1]FACTOR F'!B13 -> 2 | G35: ='[1]FACTOR F'!I13 -> 1.2554 | H35: =F36-F35 -> 3 | I35: =G36-G35 -> -0.0019
F36: ='[1]FACTOR F'!B14 -> 5 | G36: ='[1]FACTOR F'!I14 -> 1.2535 | H36: =F37-F36 -> 5 | I36: =G37-G36 -> -0.0082
A37: ประมาณราคาโดย…………………………………………………… ตรวจ………………………………………………….. | F37: ='[1]FACTOR F'!B15 -> 10 | G37: ='[1]FACTOR F'!I15 -> 1.2453 | H37: =F37 -> 10 | I37: =G37 -> 1.2453
A38: (………………………………………………....) (………………………………………………...) | F38: =C31/1000000 -> #REF! | G38: =IF($F$38<=$F$34,$G$33,IF($F$38<(VLOOKUP($F$38,$F$33:$I$37,1)+(VLOOKUP($F$38,$F$33:$I$37,3)/2)),ROUNDDOWN(VLOOKUP($F$38,$F$33:$I$37,2)-ABS(($F$38-VLOOKUP($F$38,$F$33:$I$37,1))*(VLOOKUP($F$38,$F$33:$I$37,4))/VLOOKUP($F$38,$F$33:$I$37,3)),4),ROUNDDOWN(VLOOKUP(VLOOKUP($F$38,$F$33:$I$37,1)+VLOOKUP($F$38,$F$33:$I$37,3),$F$33:$I$37,2)+(ABS(VLOOKUP($F$38,$F$33:$I$37,4))*((VLOOKUP(VLOOKUP($F$38,$F$33:$I$37,1)+VLOOKUP($F$38,$F$33:$I$37,3),$F$33:$I$37,1))-$F$38)/VLOOKUP($F$38,$F$33:$I$37,3)),4))) -> #REF!
A40: ตรวจ…………………………………………………… เห็นชอบ………………….…………………………..
A41: (………………………………………………....) (………………………………………………...)
A45: รายประมาณการค่าก่อสร้าง ระบบประปาหมู่บ้านแบบบาดาลขนาดกลาง ประจำปีงบประมาณ 2546
A46: สถานที่ก่อสร้าง
...

Sheet ปร.6
F1: แบบ ปร.6
A2: สรุปผลการประมาณราคาค่าก่อสร้าง
A3: ส่วนราชการ | B3: องค์การบริหารส่วนตำบลสำพะเนียง อำเภอโนนแดง จังหวัดนครราชสีมา
A4: ประเภท | B4: ระบบประปาหมู่บ้านแบบผิวดินขนาดกลาง
A5: เจ้าของงาน | B5: องค์การบริหารส่วนตำบลสำพะเนียง อำเภอโนนแดง จังหวัดนครราชสีมา
A6: ='[3]แบบ ปร.6'!$A$2 -> สถานที่ก่อสร้าง | B6: บ้านหัวตลาด หมู่ที่ 4 ตำบลสำพะเนียง อำเภอโนนแดง จังหวัดนครราชสีมา
A11: ลำดับที่ | B11: รายการ | E11: ค่าก่อสร้างเป็นเงิน | F11: หมายเหตุ
E12: (บาท)
A13: 1 | B13: ประเภทงานอาคาร | E13: ='ปร.5 (ก)'!L39 -> 2348200
A14: 2 | B14: ประเภทงานครุภัณฑ์จัดซื้อ | E14: ='ปร.5 (ข)'!L20 -> 135800
A15: 3 | B15: ประเภทงานชลประทาน
A16: 4 | B16: ประเภทงานสะพานและท่อเหลี่ยม
A17: 3 | B17: ประเภทงานค่าใช่จ่ายพิเศษและค่าใช่จ่ายอื่นที่จำเป็นต้องมี | E17: ='ปร.4 (พ) '!L21 -> 19000
B23: รวมค่าก่อสร้างเป็นเงินทั้งสิ้น | E23: =E13+E14+E17 -> 2503000
A24: สรุป | B24: คิดเป็นเงินประมาณการ | E24: =SUM(E23) -> 2503000
A25: ตัวอักษร | B25: =CONCATENATE("(เงิน",BAHTTEXT(E24),")") -> (เงินสองล้านห้าแสนสามพันบาทถ้วน)

Sheet ปร.5 (ก)
L1: แบบ ปร. 5 (ก)
A3: รายการค่าประมาณการก่อสร้าง
B5: ส่วนราชการ | E5: =ปร.6!B3 -> องค์การบริหารส่วนตำบลสำพะเนียง อำเภอโนนแดง จังหวัดนครราชสีมา
B6: ประเภท | E6: =ปร.6!B4 -> ระบบประปาหมู่บ้านแบบผิวดินขนาดกลาง | N6: –
B7: เจ้าของอาคาร | E7: =ปร.6!B5 -> องค์การบริหารส่วนตำบลสำพะเนียง อำเภอโนนแดง จังหวัดนครราชสีมา
B8: สถานที่ก่อสร้าง | E8: =ปร.6!B6 -> บ้านหัวตลาด หมู่ที่ 4 ตำบลสำพะเนียง อำเภอโนนแดง จังหวัดนครราชสีมา
A14: ลำดับที่ | C14: รายการ | M14: หมายเหตุ
J15: ค่าวัสดุและค่าแรงงาน | K15: Facter F | L15: ค่าก่อสร้างรวม
J16: รวมเป็นเงิน (บาท) | L16: เป็นเงิน (บาท)
A17: 1 | C17: ประเภทงานอาคาร
C18: 1.1 โรงสูบน้ำ จำนวน 1 หลัง แบบเลขที่ 412003 | J18: =โรงสูบน้ำ!K65 -> 103472.2 | K18: 1.3046 | L18: =J18*K18 -> 134989.83
C19: 1.2 รางระบายน้ำ แบบเลขที่ 911001 , 991014 | J19: 16525 | K19: 1.3046 | L19: =J19*K19 -> 21558.515 | M19: *
C20: 1.3 ป้ายการประปา แบบเลขที่ 921006 | J20: =ป้ายปารประปา!J16 -> 4050 | K20: 1.3046 | L20: =J20*K20 -> 5283.63 | M20: *
C21: 1.4 ป้ายบอกระดับน้ำในถังน้ำใส แบบเลขที่ 991043 | J21: =ป้ายบอกระดับน้ำ!J20 -> 6570 | K21: 1.3046 | L21: =J21*K21 -> 8571.222 | M21: *
C22: 1.5 ประตู,รั้ว แบบเลขที่ 991014 , 921006 | J22: ='รั้ว - ประตูรั้ว'!J55 -> 38010 | K22: 1.3046 | L22: =J22*K22 -> 49587.846 | M22: *
C23: 1.6 การประสานท่อระหว่างระบบ แบบเลขที่ 991014 | J23: =ประสานท่อ!J39 -> 75170 | K23: 1.3046 | L23: =J23*K23 -> 98066.782 | M23: *
C24: 1.7 การประสานท่อภายในโรงสูบน้ำดิบ แบบเลขที่ 911013 | J24: =ประสานท่อภายในโรงสูบน้ำ!L41 -> 15350 | K24: 1.3046 | L24: =J24*K24 -> 20025.61 | M24: *
C25: 1.8 การประสานท่อภายในโรงสูบน้ำดี แบบเลขที่ 911013 | J25: =J24 -> 15350 | K25: 1.3046 | L25: =J25*K25 -> 20025.61 | M25: *
C26: 1.9 ทดสอบการรับน้ำหนักบรรทุกของดิน จำนวน 1 ชุด | J26: =ทดสอบดิน!J13 -> 13500 | K26: 1.3046 | L26: =J26*K26 -> 17612.1
C27: 1.10 การประสานระบบไฟฟ้าภายในบริเวณ | J27: ='ระบบไฟฟ้าภายนอก-ภายใน'!J31 -> 15450 | K27: 1.3046 | L27: =J27*K27 -> 20156.07
C28: 1.11 ค่าก่อสร้างสระพักตะกอน แบบเลขที่ 991014 | J28: ='สระพักตะกอน-'!J15 -> 8770 | K28: 1.3046 | L28: =J28*K28 -> 11441.342 | M28: *
C29: 1.12 ระบบกรองน้ำผิวดิน ขนาด 5 ลูกบาศก์เมตรต่อชั่วโมง แบบเลขที่ 1141005 | J29: =โรงกรอง!J129 -> 474440 | K29: 1.3046 | L29: =J29*K29 -> 618954.42
C30: 1.13 ถังน้ำใส ขนาดจุ 25 ลูกบาศก์เมตร แบบเลขที่ 2211025 | J30: =ถังน้ำใส!L57 -> 187490 | K30: 1.3046 | L30: =J30*K30 -> 244599.45
C31: 1.14 หอถังสูง ขนาดจุ 15 ลูกบาศก์ก์เมตร แบบเลขที่ 3111015 | J31: =หอถังสูง!J65 -> 461300 | K31: 1.3046 | L31: =J31*K31 -> 601811.98
C32: 1.15 ระบบท่อส่งน้ำดิบ | J32: =ระบบท่อส่งน้ำดิบ!J27 -> 82010 | K32: 1.3046 | L32: =J32*K32 -> 106990.25 | M32: *
C33: 1.16 ระบบท่อจ่ายน้ำประปา | J33: =ระบบจ่ายน้ำประปา!J27 -> 282500 | K33: 1.3046 | L33: =J33*K33 -> 368549.5
C34: เงื่อนไข
C35: เงินล่วงหน้าจ่าย 15.00 %
C36: เงินประกันผลงานหัก 0.00 %
C37: ดอกเบี้ยเงินกู้ 6.00 %
C38: รวมเป็นเงิน | J38: =SUM(J18:J37) -> 1799957.2 | K38: 1.3046 | L38: =SUM(L18:L33) -> 2348224.2
C39: คิดเป็นเงินประมาณการ | L39: =ROUNDDOWN(L38,-2) -> 2348200
C40: ( ตัวอักษร ) | G40: =CONCATENATE("(เงิน",BAHTTEXT(L39),")") -> (เงินสองล้านสามแสนสี่หมื่นแปดพันสองร้อยบาทถ้วน)
A42: หมายเหตุ 1.ราคานี้ไม่รวมการประสานระบบไฟฟ้าและขยายเขตไฟฟ้าภายนอก

Sheet ปร.5 (ข)
L1: แบบ ปร. 5 (ข)
A2: สรุปค่าคุรุภัณฑ์จัดซื้อ
B3: ส่วนราชการ | E3: =ปร.6!B3 -> องค์การบริหารส่วนตำบลสำพะเนียง อำเภอโนนแดง จังหวัดนครราชสีมา
B4: ประเภท | E4: =ปร.6!B4 -> ระบบประปาหมู่บ้านแบบผิวดินขนาดกลาง
B5: เจ้าของอาคาร | E5: =ปร.6!B5 -> องค์การบริหารส่วนตำบลสำพะเนียง อำเภอโนนแดง จังหวัดนครราชสีมา
B6: สถานที่ก่อสร้าง | E6: =ปร.6!B6 -> บ้านหัวตลาด หมู่ที่ 4 ตำบลสำพะเนียง อำเภอโนนแดง จังหวัดนครราชสีมา
A11: ลำดับที่ | C11: รายการ | J11: ค่าวัสดุและค่าแรงงาน | K11: ภาษีมูลค่า | L11: ค่าก่อสร้างรวม | M11: หมายเหตุ
J12: รวมเป็นเงิน (บาท) | K12: เพิ่ม | L12: เป็นเงิน (บาท)
A13: 1 | C13: ค่าจัดหาและติดตั้งเครื่องสูบน้ำดิบพร้อมตู้ควบคุ้ม จำนวน 2 ชุด | J13: ='เครื่องสูบน้ำดิบ-'!J17 -> 35400 | K13: 1.07 | L13: =J13*K13 -> 37878
A14: 2 | C14: ค่าจัดหาและติดตั้งเครื่องสูบน้ำดีพร้อมตู้ควบคุ้ม จำนวน 2 ชุด | J14: ='เครื่องสูบน้ำดี-'!J17 -> 50400 | K14: 1.07 | L14: =J14*K14 -> 53928
A15: 3 | C15: ค่าจัดหาและค่าติดตั้งเครื่องจ่ายสารละลายคลอรีน | J15: =ระบบจ่ายสารละลายคลอรีน!J19 -> 18600 | K15: 1.07 | L15: =J15*K15 -> 19902 | M15: *
A16: 4 | C16: เครื่องมือประจำการประปา | J16: =เครื่องมือประการประปา!J28 -> 8800 | K16: 1.07 | L16: =J16*K16 -> 9416 | M16: *
A17: 5 | C17: เครื่องมือตรวจวัดความเป็นกรด - ด่างในน้ำ | J17: ='กรด-ด่าง-'!J13 -> 3800 | K17: 1.07 | L17: =J17*K17 -> 4066 | M17: *
A18: 6 | C18: สารส้ม | J18: =สารส้ม!J13 -> 10000 | K18: 1.07 | L18: =J18*K18 -> 10700 | M18: *
C19: รวมราคาค่าก่อสร้างเป็นเงิน | L19: =SUM(L13:L18) -> 135890
C20: คิดเป็นเงินประมาณการ | L20: =ROUNDDOWN(L19,-2) -> 135800
C21: ( ตัวอักษร ) | J21: =CONCATENATE("(เงิน",BAHTTEXT(L20),")") -> (เงินหนึ่งแสนสามหมื่นห้าพันแปดร้อยบาทถ้วน)

Sheet ปร.4 (พ) 
L1: แบบ ปร. 4 (พ)
A2: แบบแสดงรายการ xระมาณงาน และราคา
A3: (ค่าใช้จ่ายพิเศษตามข้อกำหนดและค่าใช้จ่ายอื่นที่จำเป้นต้องมี)
B4: ส่วนราชการ | E4: =ปร.6!B3 -> องค์การบริหารส่วนตำบลสำพะเนียง อำเภอโนนแดง จังหวัดนครราชสีมา
B5: ประเภท | E5: =ปร.6!B4 -> ระบบประปาหมู่บ้านแบบผิวดินขนาดกลาง
B6: เจ้าของอาคาร | E6: =ปร.6!B5 -> องค์การบริหารส่วนตำบลสำพะเนียง อำเภอโนนแดง จังหวัดนครราชสีมา
B7: สถานที่ก่อสร้าง | E7: =ปร.6!B6 -> บ้านหัวตลาด หมู่ที่ 4 ตำบลสำพะเนียง อำเภอโนนแดง จังหวัดนครราชสีมา
A12: ลำดับที่ | C12: รายการ | J12: ค่าวัสดุและค่าแรงงาน | K12: ภาษีมูลค่า | L12: ค่าก่อสร้างรวม | M12: หมายเหตุ
J13: รวมเป็นเงิน (บาท) | K13: เพิ่ม | L13: เป็นเงิน (บาท)
A14: 1 | C14: ค่าขนส่งวัสดุก่อสร้าง | J14: 1 | K14: โครงการ | L14: 19000 | M14: ขึ้นอยู่กับ
M15: สถานที่
M16: ก่อสร้าง
C21: รวามค่าใช้จ่ายพิเศาตามข้อกำหนดฯ ทุกรายการ | L21: =SUM(L14:L20) -> 19000
C22: ( ตัวอักษร ) | J22: =CONCATENATE("(เงิน",BAHTTEXT(L21),")") -> (เงินหนึ่งหมื่นเก้าพันบาทถ้วน)

Sheet โรงสูบน้ำ
A1: ประมานราคาค่าก่อสร้าง | C1: โรงสูบน้ำ
A2: ='[3]แบบ ปร.6'!$A$2 -> สถานที่ก่อสร้าง | C2: บ้านหัวตลาด หมู่ที่ 4 ตำบลสำพะเนียง อำเภอโนนแดง จังหวัดนครราชสีมา
A3: ส่วนเทคโนโลยีและมาตราฐาน | C3: ='[3]แบบ ปร.6'!$A$4 -> สำนักบริหารจัดการน้ำ กรมทรัพยากรน้ำ | I3: แบบเลขที่ | J3: 412003
A6: ลำดับที่ | B6: รายการ | E6: จำนวน | F6: หน่วย | G6: ค่าวัสดุ | I6: ค่าแรง | K6: ค่าวัสดุและ | L6: หมายเหตุ
G7: ราคาต่อหน่วย | H7: เป็นเงิน | I7: ราคาต่อหน่วย | J7: เป็นเงิน | K7: ค่าแรงงาน
B8: 1. งานดิน
A9: 1.1 | B9: ขุดดินหลุมฐานราก/ถมคืน | E9: 4 | F9: ตร.ม. | G9: 0 | H9: 0 | I9: 125 | J9: =ROUNDDOWN(I9*E9,2) -> 500 | K9: =H9+J9 -> 500
A10: 1.2 | B10: ทรายหยาบ,หรายหยาบรองพื้น | E10: 1.5 | F10: ลบ.ม. | G10: 406.54 | H10: =E10*G10 -> 609.81 | I10: 99 | J10: =ROUNDDOWN(I10*E10,2) -> 148.5 | K10: =H10+J10 -> 758.31
B11: 2. งานแบบหล่อ
A12: 2.1 | B12: ไม้ปบบหล่อคอนกรีตทั่วไป 80% พร้อมไม้คร่าว | E12: 23 | F12: ตร.ม. | G12: 400 | H12: =E12*G12 -> 9200 | I12: 133 | J12: =ROUNDDOWN(I12*E12,2) -> 3059 | K12: =H12+J12 -> 12259
A13: 2.2 | B13: ตะปู | E13: 6 | F13: กก. | G13: 27 | H13: =E13*G13 -> 162 | I13: - | J13: - | K13: =H13 -> 162
B14: 3. งานคอนกรีต
A15: 3.1 | B15: คอนกรีต 1:3:5 | E15: 0.2 | F15: ลบ.ม. | G15: 1705.61 | H15: =E15*G15 -> 341.122 | I15: 398 | J15: =ROUNDDOWN(I15*E15,2) -> 79.6 | K15: =H15+J15 -> 420.722
A16: 3.2 | B16: คอนกรีต 1:2:4 (ซีเมนต์ไม่น่อยกว่า 320 กก/ลบ.ม.) | E16: 4 | F16: ลบ.ม. | G16: 1799.07 | H16: =E16*G16 -> 7196.28 | I16: 498 | J16: =ROUNDDOWN(I16*E16,2) -> 1992 | K16: =H16+J16 -> 9188.28
B17: 4. งานเหล็ก
A18: 4.1 | B18: เหล็กเส้นกลม dia. 6 มม. (2.22 กก/เส้น) | E18: 27 | F18: กก. | G18: 18.31 | H18: =E18*G18 -> 494.37 | I18: 3.4 | J18: =E18*I18 -> 91.8 | K18: =H18+J18 -> 586.17
A19: 4.2 | B19: เหล็กเส้นกลม dia. 9 มม. (4.99 กก/เส้น) | E19: 280 | F19: กก. | G19: 17.13 | H19: =E19*G19 -> 4796.4 | I19: 3.4 | J19: =E19*I19 -> 952 | K19: =H19+J19 -> 5748.4
A20: 4.3 | B20: เหล็กข้ออ้อย dia. 12 มม. (8.88 กก/เส้น) | E20: 108 | F20: กก. | G20: 19.2 | H20: =E20*G20 -> 2073.6 | I20: 3.4 | J20: =E20*I20 -> 367.2 | K20: =H20+J20 -> 2440.8
A21: 4.4 | B21: เหล็กข้ออ้อย dia. 16 มม. (15.8 กก/เส้น) | E21: 52 | F21: กก. | G21: 18.66 | H21: =E21*G21 -> 970.32 | I21: 3.4 | J21: =E21*I21 -> 176.8 | K21: =H21+J21 -> 1147.12
A22: 4.5 | B22: ลวดผูกเหล็ก No. 18 | E22: 6 | F22: กก. | G22: 24 | H22: =E22*G22 -> 144 | I22: - | J22: - | K22: =H22 -> 144
B23: 5. งานโครงหลังคา
A24: 5.1 | B24: เหล็ก LG 100×100×2.3 มม. ยาว 6 ม. | E24: 2 | F24: ท่อน | G24: 950 | H24: =E24*G24 -> 1900 | K24: =H24+J24 -> 1900
B25: กลวงสี่เหลี่ยม
A26: 5.2 | B26: เหล็ก 75×45×15×2.3 มม. ยาว 6 ม. ตัวซี | E26: 7 | F26: ท่อน | G26: 462 | H26: =E26*G26 -> 3234 | J26: 3370 | K26: =H26+J26 -> 6604
A27: 5.3 | B27: เหล็ก LG 50×50×2.3 มม. ยาว 6 ม. กลวงสี่เหลี่ยม | E27: 7 | F27: ท่อน | G27: 545 | H27: =E27*G27 -> 3815 | K27: =H27+J27 -> 3815
A28: 5.4 | B28: เหล็ก LG 38×38×2 มม. ยาว 6 ม. กลวงสี่เหลี่ยม | E28: 4 | F28: ท่อน | G28: 288 | H28: =E28*G28 -> 1152 | K28: =H28+J28 -> 1152
A29: 5.5 | B29: แผ่นเหล็ก 0.10×0.10 ม. หนา 4.5 มม. | E29: 8 | F29: แผ่น | G29: 45 | H29: =E29*G29 -> 360 | I29: - | J29: - | K29: =H29 -> 360
A30: 5.6 | B30: กระเบื้องซีเมนต์ใยหินแผ่นลอยคู่ | E30: 62 | F30: แผ่น | G30: 58 | H30: =E30*G30 -> 3596 | I30: 11 | J30: =E30*I30 -> 682 | K30: =H30+J30 -> 4278
B31: 0.50×1.20 ม. หนา .5 มม.
A32: 5.7 | B32: ครอบกระเบื้องชนิดปรับมุม | E32: 13 | F32: คู่ | G32: 104 | H32: =E32*G32 -> 1352 | I32: - | J32: - | K32: =H32 -> 1352
A33: 5.8 | B33: ขอยึดกระเบื้อง | E33: 62 | F33: ตัว | G33: 4 | H33: =E33*G33 -> 248 | I33: - | J33: - | K33: =H33 -> 248
B34: 6. งานผนังก่ออิฐ
A35: 6.1 | B35: ก่ออิฐมอญ 1/2 แผ่น | E35: 22 | F35: ตร.ม. | G35: 225 | H35: =E35*G35 -> 4950 | I35: 89 | J35: =E35*I35 -> 1958 | K35: =H35+J35 -> 6908
A36: 6.2 | B36: ก่อซีเมนต์บล็อค (19×39×9 ซม.) | E36: 1.9 | F36: ตร.ม. | G36: 206 | H36: =E36*G36 -> 391.4 | I36: 60 | J36: =E36*I36 -> 114 | K36: =H36+J36 -> 505.4
B37: 7. งานฉาบปูน
A38: 7.1 | B38: ฉาบปูนเรียบธรรมดา | E38: 46 | F38: ตร.ม. | G38: 55 | H38: =E38*G38 -> 2530 | I38: 82 | J38: =E38*I38 -> 3772 | K38: =H38+J38 -> 6302
B39: 8. งานสี
A40: 8.1 | B40: ทาสีน้ำพลาสติก | E40: 69 | F40: ตร.ม. | G40: 35 | H40: =E40*G40 -> 2415 | I40: 30 | J40: =E40*I40 -> 2070 | K40: =H40+J40 -> 4485
A41: 8.2 | B41: ทาสีน้ำมัน | E41: 15 | F41: ตร.ม. | G41: 45 | H41: =E41*G41 -> 675 | I41: 38 | J41: =E41*I41 -> 570 | K41: =H41+J41 -> 1245
B42: รวมยอดยกไป | H42: =SUM(H9:H41) -> 52606.302 | J42: =SUM(J9:J41) -> 19902.9 | K42: =SUM(K9:K41) -> 72509.202
...

Sheet รางระบาย(2)-
A1: ประมานราคาค่าก่อสร้าง | C1: รางระบายน้ำ
A2: ='[3]แบบ ปร.6'!$A$2 -> สถานที่ก่อสร้าง | C2: =โรงสูบน้ำ!C2 -> บ้านหัวตลาด หมู่ที่ 4 ตำบลสำพะเนียง อำเภอโนนแดง จังหวัดนครราชสีมา
A3: ส่วนเทคโนโลยีและมาตราฐาน | C3: =โรงสูบน้ำ!C3 -> สำนักบริหารจัดการน้ำ กรมทรัพยากรน้ำ | H3: แบบเลขที่ | I3: 911001 , 991014
A6: ลำดับที่ | B6: รายการ | D6: จำนวนหน่วย | F6: ค่าวัสดุ | H6: ค่าแรง | J6: ค่าวัสดุและ | K6: หมายเหตุ
F7: ราคาต่อหน่วย | G7: เป็นเงิน | H7: ราคาต่อหน่วย | I7: เป็นเงิน | J7: ค่าแรงงาน
A8: 1 | B8: รางระบายน้ำ | D8: 19 | E8: ม. | F8: 468.04 | G8: =F8*D8 -> 8892.76 | H8: 357.68 | I8: =H8*D8 -> 6795.92 | J8: =I8+G8 -> 15688.68
C15: รวมเงิน | G15: =SUM(G8:G14) -> 8892.76 | I15: =SUM(I8:I14) -> 6795.92 | J15: =SUM(J8:J14) -> 15688.68
C16: คิดเป็นเงินค่างาน | J16: =ROUNDDOWN(J15,-1) -> 15680

Sheet รางระบาย(1)-
A1: ประมาณราคาค่าก่อสร้าง | C1: รางระบายน้ำ
A2: ='[4]แบบ ปร.6'!$A$2 -> สถานที่ก่อสร้าง | C2: =โรงสูบน้ำ!C2 -> บ้านหัวตลาด หมู่ที่ 4 ตำบลสำพะเนียง อำเภอโนนแดง จังหวัดนครราชสีมา
A3: ส่วนเทคโนโลยีและมาตราฐาน | C3: =โรงสูบน้ำ!C3 -> สำนักบริหารจัดการน้ำ กรมทรัพยากรน้ำ | H3: แบบเลขที่ | I3: 911001 , 991014
A6: ลำดับที่ | B6: รายการ | D6: จำนวนหน่วย | F6: ค่าวัสดุ | H6: ค่าแรง | J6: ค่าวัสดุและ | K6: หมายเหตุ
F7: ราคาต่อหน่วย | G7: เป็นเงิน | H7: ราคาต่อหน่วย | I7: เป็นเงิน | J7: ค่าแรงงาน
A8: 1 | B8: ขุดดิน | D8: 0.39 | E8: =[5]งานดิน!$C$2 -> ลบ.ม. | F8: 0 | G8: 0 | H8: 125 | I8: =H8*D8 -> 48.75 | J8: =I8+G8 -> 48.75
A9: 2 | B9: =[5]งานดิน!$B$6 -> ทรายหยาบ,ทรายหยาบรองพื้น | D9: 0.03 | E9: =[5]งานดิน!$C$6 -> ลบ.ม. | F9: 406.54 | G9: =F9*D9 -> 12.1962 | H9: 99 | I9: =H9*D9 -> 2.97 | J9: =I9+G9 -> 15.1662
A10: 3 | B10: =[5]งานคอนกรีต!$B$3 -> คอนกรีต 1 : 2 : 4 (ซีเมนต์ไม่น้อยกว่า 320 กก/ลบ.ม.) | D10: 0.05 | E10: =[5]งานคอนกรีต!$C$3 -> ลบ.ม. | F10: 1799.07 | G10: =F10*D10 -> 89.9535 | H10: 436 | I10: =H10*D10 -> 21.8 | J10: =I10+G10 -> 111.7535
A11: 4 | B11: =[5]เหล็กเส้นกลม!$B$3 -> เหล็กเส้นกลม dia. 9 มม. (4.99 กก./เส้น) | D11: 2 | E11: =[5]เหล็กเส้นกลม!$C$3 -> กก. | F11: 17.13 | G11: =F11*D11 -> 34.26 | H11: 3.4 | I11: =H11*D11 -> 6.8 | J11: =I11+G11 -> 41.06
A12: 5 | B12: =[5]งานผนัง!$B$2 -> ก่ออิฐมอญ 1/2 แผ่น | D12: 1 | E12: =[5]งานผนัง!$C$2 -> ตร.ม. | F12: 225 | G12: =F12*D12 -> 225 | H12: 89 | I12: =H12*D12 -> 89 | J12: =I12+G12 -> 314
A13: 6 | B13: ='[5]งานผิวผนัง-ผิวพื้น'!$B$2 -> ฉาบปูนเรียบธรรมดา | D13: 2.3 | E13: ='[5]งานผิวผนัง-ผิวพื้น'!$C$2 -> ตร.ม. | F13: 55 | G13: =F13*D13 -> 126.5 | H13: 82 | I13: =H13*D13 -> 188.6 | J13: =I13+G13 -> 315.1
C15: รวมเงิน | G15: =SUM(G8:G14) -> 487.9097 | I15: =SUM(I8:I14) -> 357.92 | J15: =SUM(J8:J14) -> 845.8297
C16: คิดเป็นเงินค่างาน | J16: =ROUNDDOWN(J15,0) -> 845

Sheet ป้ายปารประปา
A1: ประมานราคาค่าก่อสร้าง | C1: ป้ายการประปา
A2: ='[3]แบบ ปร.6'!$A$2 -> สถานที่ก่อสร้าง | C2: ='รางระบาย(1)-'!C2 -> บ้านหัวตลาด หมู่ที่ 4 ตำบลสำพะเนียง อำเภอโนนแดง จังหวัดนครราชสีมา
A3: ส่วนเทคโนโลยีและมาตราฐาน | C3: ='รางระบาย(1)-'!C3 -> สำนักบริหารจัดการน้ำ กรมทรัพยากรน้ำ | H3: แบบเลขที่ | I3: 921006
A6: ลำดับที่ | B6: รายการ | D6: จำนวนหน่วย | F6: ค่าวัสดุ | H6: ค่าแรง | J6: ค่าวัสดุและ | K6: หมายเหตุ
F7: ราคาต่อหน่วย | G7: เป็นเงิน | H7: ราคาต่อหน่วย | I7: เป็นเงิน | J7: ค่าแรงงาน
A8: 1 | B8: ขุดดินหลุมฐานราก/ถมดิน | D8: 0.3 | E8: ลบ.ม. | H8: 125 | I8: =H8*D8 -> 37.5 | J8: =I8+G8 -> 37.5
A9: 2 | B9: =[5]งานคอนกรีต!$B$3 -> คอนกรีต 1 : 2 : 4 (ซีเมนต์ไม่น้อยกว่า 320 กก/ลบ.ม.) | D9: 0.6 | E9: ลบ.ม. | F9: 1799.07 | G9: =F9*D9 -> 1079.442 | H9: 436 | I9: =H9*D9 -> 261.6 | J9: =I9+G9 -> 1341.042
A10: 3 | B10: ท่อเหล็กอาบสังกะสี dia 2" | D10: 1 | E10: ท่อน | F10: 1090 | G10: =F10*D10 -> 1090 | J10: =I10+G10 -> 1090
A11: 4 | B11: แผ่นเหล็กหนา 1.20×2.40 ม. หนา 2 มม. | D11: 0.5 | E11: แผ่น | F11: 1100 | G11: =F11*D11 -> 550 | J11: =I11+G11 -> 550
A12: 5 | B12: น๊อต dia 3/8" ยาว 4" | D12: 6 | E12: ตัว | F12: 18 | G12: =F12*D12 -> 108 | I12: 500 | J12: =I12+G12 -> 608
A13: 6 | B13: หัวเสา อลูมิเนียม dia 2" | D13: 2 | E13: ชุด | F13: 130 | G13: =F13*D13 -> 260 | J13: =I13+G13 -> 260
A14: 7 | B14: ทาสีน้ำมัน | D14: 2 | E14: ตร.ม. | F14: 45 | G14: =F14*D14 -> 90 | H14: 38 | I14: =H14*D14 -> 76 | J14: =I14+G14 -> 166
C15: รวมเงิน | G15: =SUM(G8:G14) -> 3177.442 | I15: =SUM(I8:I14) -> 875.1 | J15: =SUM(J8:J14) -> 4052.542
C16: คิดเป็นเงินค่างาน | J16: =ROUNDDOWN(J15,-1) -> 4050

Sheet ป้ายบอกระดับน้ำ
A1: ประมาณราคาค่าก่อสร้าง | C1: ป้ายบอกระดับน้ำในถังน้ำใส ขนาด 25 ลุกบาศก์เมตร
A2: ='[1]แบบ ปร.6'!$A$2 -> สถานที่ก่อสร้าง | C2: =โรงสูบน้ำ!C2 -> บ้านหัวตลาด หมู่ที่ 4 ตำบลสำพะเนียง อำเภอโนนแดง จังหวัดนครราชสีมา
A3: ส่วนเทคโนโลยีและมาตราฐาน | C3: =โรงสูบน้ำ!C3 -> สำนักบริหารจัดการน้ำ กรมทรัพยากรน้ำ | H3: แบบเลขที่ | I3: 991043
A6: ลำดับที่ | B6: รายการ | D6: จำนวนหน่วย | F6: ค่าวัสดุ | H6: ค่าแรง | J6: ค่าวัสดุและ | K6: หมายเหตุ
F7: ราคาต่อหน่วย | G7: เป็นเงิน | H7: ราคาต่อหน่วย | I7: เป็นเงิน | J7: ค่าแรงงาน
A8: 1 | B8: =[5]เหล็กรูปพรรณ!$B$17 -> แผ่นเหล็ก 1.20 x 2.40 ม. หนา 4.5 มม. | D8: 1 | E8: =[5]เหล็กรูปพรรณ!$C$17 -> แผ่น | F8: 2510 | G8: =IF(F8="-","-",D8*F8) -> 2510 | J8: =SUM(G8,I8) -> 2510
A9: 2 | B9: =[5]เหล็กรูปพรรณ!$B$12 -> เหล็กแบน 1 1/4 x 3/16 นิ้ว ยาว 6 ม. | D9: 1 | E9: =[5]เหล็กรูปพรรณ!$C$12 -> เส้น | F9: 165 | G9: =IF(F9="-","-",D9*F9) -> 165 | J9: =SUM(G9,I9) -> 165
A10: 3 | B10: =[5]เหล็กรูปพรรณ!$B$13 -> เหล็กแบน 1 1/2 x 3/16 นิ้ว ยาว 6 ม. | D10: 1 | E10: =[5]เหล็กรูปพรรณ!$C$13 -> เส้น | F10: 205 | G10: =IF(F10="-","-",D10*F10) -> 205 | J10: =SUM(G10,I10) -> 205
A11: 4 | B11: =[5]เหล็กรูปพรรณ!$B$7 -> เหล็กฉาก 25 x 25 x 3 มม. ยาว 6 ม. | D11: 1 | E11: =[5]เหล็กรูปพรรณ!$C$7 -> เส้น | F11: 189 | G11: =IF(F11="-","-",D11*F11) -> 189 | J11: =SUM(G11,I11) -> 189
A12: 5 | B12: =[5]เหล็กรูปพรรณ!$B$8 -> เหล็กฉาก 40 x 40 x 5 มม. ยาว 6 ม. | D12: 1 | E12: =[5]เหล็กรูปพรรณ!$C$8 -> ท่อน | F12: 405 | G12: =IF(F12="-","-",D12*F12) -> 405 | J12: =SUM(G12,I12) -> 405
A13: 6 | B13: ='[5]อื่น ๆ'!$B$56 -> ลูกปืน dia. 0.02 ม | D13: 2 | E13: ='[5]อื่น ๆ'!$C$54 -> ม. | F13: 350 | G13: =IF(F13="-","-",D13*F13) -> 700 | J13: =SUM(G13,I13) -> 700
A14: 7 | B14: เล็กแกนตัน Ø 25 มม. | D14: 1 | E14: ชุด | F14: 220 | G14: =IF(F14="-","-",D14*F14) -> 220 | J14: =SUM(G14,I14) -> 220
A15: 8 | B15: ลวดสลิง Ø 3/16 นิ้ว | D15: 10 | E15: ม. | F15: 21 | G15: =IF(F15="-","-",D15*F15) -> 210 | J15: =SUM(G15,I15) -> 210
A16: 9 | B16: ='[5]อื่น ๆ'!$B$5 -> แกลลอนจุ 5 ลิตร | D16: 1 | E16: ='[5]อื่น ๆ'!$C$5 -> ลูก | F16: 15 | G16: =IF(F16="-","-",D16*F16) -> 15 | J16: =SUM(G16,I16) -> 15
A17: 10 | B17: =[5]งานทาสี!$B$3 -> ทาสีน้ำมัน | D17: 3 | E17: =[5]งานทาสี!$C$3 -> ตร.ม. | F17: 45 | G17: =IF(F17="-","-",D17*F17) -> 135 | H17: 38 | I17: =IF(H17="-","-",H17*D17) -> 114 | J17: =SUM(G17,I17) -> 249
A18: 11 | B18: ค่าแรงประกอบติดตั้ง | I18: 1710 | J18: =SUM(G18,I18) -> 1710
C19: รวมเงิน | G19: =SUM(G8:G17) -> 4754 | I19: =SUM(I8:I18) -> 1824 | J19: =SUM(J8:J18) -> 6578
C20: คิดเป็นเงินค่างาน | J20: =ROUNDDOWN(J19,-1) -> 6570

Sheet รั้ว - ประตูรั้ว
A1: ประมาณราคาค่าก่อสร้าง
A2: ประมาณราคาค่าก่อสร้าง | C2: รั้ว - ประตูรั้ว ( 20 × 20 ม.)
A3: ='[4]แบบ ปร.6'!$A$2 -> สถานที่ก่อสร้าง | C3: =โรงสูบน้ำ!C2 -> บ้านหัวตลาด หมู่ที่ 4 ตำบลสำพะเนียง อำเภอโนนแดง จังหวัดนครราชสีมา
A4: ส่วนเทคโนโลยีและมาตราฐาน | C4: =โรงสูบน้ำ!C3 -> สำนักบริหารจัดการน้ำ กรมทรัพยากรน้ำ | H4: แบบเลขที่ | I4: 991014, 921006
A7: ลำดับที่ | B7: รายการ | D7: จำนวนหน่วย | F7: ค่าวัสดุ | H7: ค่าแรง | J7: ค่าวัสดุและ | K7: หมายเหตุ
F8: ราคา/หน่วย | G8: เป็นเงิน | H8: ราคา/หน่วย | I8: เป็นเงิน | J8: ค่าแรงงาน
B9: 1. เสา/บานประตูรั้ว
A10: 1.1 | B10: =[5]งานดิน!$B$2 -> ขุดดินหลุมฐานราก/ถมคืน | D10: 0.4 | E10: =[5]งานดิน!$C$2 -> ลบ.ม. | F10: - | G10: =IF(F10="-","-",D10*F10) -> - | H10: 125 | I10: =IF(H10="-","-",H10*D10) -> 50 | J10: =SUM(G10,I10) -> 50
A11: 1.2 | B11: =[5]งานดิน!$B$6 -> ทรายหยาบ,ทรายหยาบรองพื้น | D11: 0.05 | E11: =[5]งานดิน!$C$6 -> ลบ.ม. | F11: 406.54 | G11: =IF(F11="-","-",D11*F11) -> 20.327 | H11: 99 | I11: =IF(H11="-","-",H11*D11) -> 4.95 | J11: =SUM(G11,I11) -> 25.277
A12: 1.3 | B12: =[5]งานคอนกรีต!$B$2 -> คอนกรีต 1 : 3 : 5 | D12: 0.053 | E12: =[5]งานคอนกรีต!$C$2 -> ลบ.ม. | F12: 1705.61 | G12: =IF(F12="-","-",D12*F12) -> 90.39733 | H12: 398 | I12: =IF(H12="-","-",H12*D12) -> 21.094 | J12: =SUM(G12,I12) -> 111.49133
A13: 1.4 | B13: =[5]งานคอนกรีต!$B$3 -> คอนกรีต 1 : 2 : 4 (ซีเมนต์ไม่น้อยกว่า 320 กก/ลบ.ม.) | D13: 0.315 | E13: =[5]งานคอนกรีต!$C$3 -> ลบ.ม. | F13: 1799.07 | G13: =IF(F13="-","-",D13*F13) -> 566.70705 | H13: 498 | I13: =IF(H13="-","-",H13*D13) -> 156.87 | J13: =SUM(G13,I13) -> 723.57705
A14: 1.5 | B14: =[5]เหล็กเส้นกลม!$B$9 -> เหล็กเสริม | D14: 47.61 | E14: =[5]เหล็กเส้นกลม!$C$9 -> กก. | F14: 19.35 | G14: =IF(F14="-","-",D14*F14) -> 921.2535 | H14: 3.4 | I14: =IF(H14="-","-",H14*D14) -> 161.874 | J14: =SUM(G14,I14) -> 1083.1275
A15: 1.6 | B15: =[5]เหล็กเส้นกลม!$B$8 -> ลวดผูกเหล็ก No 18 | D15: 0.7 | E15: =[5]เหล็กเส้นกลม!$C$8 -> กก. | F15: 24 | G15: =IF(F15="-","-",D15*F15) -> 16.8 | H15: =[5]เหล็กเส้นกลม!$E$8 -> - | I15: =IF(H15="-","-",H15*D15) -> - | J15: =SUM(G15,I15) -> 16.8
A16: 1.7 | B16: =[5]GS.!$B$6 -> ท่อเหล็กอาบสังกะสี+ข้อต่อยาว6ม. dia 1 1/2" | D16: 3 | E16: =[5]GS.!$C$6 -> ท่อน | F16: 770 | G16: =IF(F16="-","-",D16*F16) -> 2310 | J16: =SUM(G16,I16) -> 2310
A17: 1.8 | B17: =[5]งานประตูหน้าต่าง!$B$21 -> ลวดตาข่ายสี่เหลี่ยมขนมเปียกปูน dia. 3 มม. ขนาดช่อง 38 มม. | D17: 5.25 | E17: =[5]งานประตูหน้าต่าง!$C$21 -> ตร.ม. | F17: 110 | G17: =IF(F17="-","-",D17*F17) -> 577.5 | J17: =SUM(G17,I17) -> 577.5
A18: 1.9 | B18: =[5]งานประตูหน้าต่าง!$B$11 -> บุ๊ชสลักติดบานประตู dia. 1 1/2 นิ้ว | D18: 6 | E18: =[5]งานประตูหน้าต่าง!$C$11 -> ตัว | F18: 95 | G18: =IF(F18="-","-",D18*F18) -> 570 | I18: 650 | J18: =SUM(G18,I18) -> 1220
A19: 1.1 | B19: =[5]งานประตูหน้าต่าง!$B$17 -> กลอนเหล็กและกุญแจ | D19: 2 | E19: =[5]งานประตูหน้าต่าง!$C$17 -> ชุด | F19: =[5]งานประตูหน้าต่าง!$D$17 -> 280 | G19: =IF(F19="-","-",D19*F19) -> 560 | J19: =SUM(G19,I19) -> 560
A20: 1.11 | B20: ='[5]งานผิวผนัง-ผิวพื้น'!$B$2 -> ฉาบปูนเรียบธรรมดา | D20: 3 | E20: ='[5]งานผิวผนัง-ผิวพื้น'!$C$2 -> ตร.ม. | F20: ='[5]งานผิวผนัง-ผิวพื้น'!$D$2 -> 55 | G20: =IF(F20="-","-",D20*F20) -> 165 | H20: 82 | I20: =IF(H20="-","-",H20*D20) -> 246 | J20: =SUM(G20,I20) -> 411
A21: 1.12 | B21: =[5]งานทาสี!$B$2 -> ทาสีน้ำพลาสติก | D21: 3 | E21: =[5]งานทาสี!$C$2 -> ตร.ม. | F21: =[5]งานทาสี!$D$2 -> 35 | G21: =IF(F21="-","-",D21*F21) -> 105 | H21: 30 | I21: =IF(H21="-","-",H21*D21) -> 90 | J21: =SUM(G21,I21) -> 195
A22: 1.13 | B22: =[5]งานทาสี!$B$3 -> ทาสีน้ำมัน | D22: 2 | E22: =[5]งานทาสี!$C$3 -> ตร.ม. | F22: =[5]งานทาสี!$D$3 -> 45 | G22: =IF(F22="-","-",D22*F22) -> 90 | H22: 38 | I22: =IF(H22="-","-",H22*D22) -> 76 | J22: =SUM(G22,I22) -> 166
A23: 1.14 | B23: =[5]งานแบบหล่อ!$B$3 -> ไม้แบบหล่อคอนกรีตทั่วไป 80 % พร้อมไม้คร่าว | D23: 1.14 | E23: =[5]งานแบบหล่อ!$C$3 -> ตร.ม. | F23: 400 | G23: =IF(F23="-","-",D23*F23) -> 456 | H23: 133 | I23: =IF(H23="-","-",H23*D23) -> 151.62 | J23: =SUM(G23,I23) -> 607.62
A24: 1.15 | B24: =[5]งานแบบหล่อ!$B$6 -> ตะปู | D24: 0.2 | E24: =[5]งานแบบหล่อ!$C$6 -> กก. | F24: 27 | G24: =IF(F24="-","-",D24*F24) -> 5.4 | H24: =[5]งานแบบหล่อ!$E$6 -> - | I24: =IF(H24="-","-",H24*D24) -> - | J24: =SUM(G24,I24) -> 5.4
C26: รวมเงิน (1) | G26: =ROUNDDOWN(SUM(G10:G25),0) -> 6454 | I26: =ROUNDDOWN(SUM(I10:I25),0) -> 1608 | J26: =ROUNDDOWN(SUM(J10:J25),0) -> 8062
B28: 2. เสามุมรั้วต่อ 1 ต้น
A29: 2.1 | B29: =[5]งานดิน!$B$2 -> ขุดดินหลุมฐานราก/ถมคืน | D29: 0.2 | E29: =[5]งานดิน!$C$2 -> ลบ.ม. | F29: - | G29: =IF(F29="-","-",D29*F29) -> - | H29: 125 | I29: =IF(H29="-","-",H29*D29) -> 25 | J29: =SUM(G29,I29) -> 25
A30: 2.2 | B30: =[5]งานดิน!$B$6 -> ทรายหยาบ,ทรายหยาบรองพื้น | D30: 0.025 | E30: =[5]งานดิน!$C$6 -> ลบ.ม. | F30: 406.54 | G30: =IF(F30="-","-",D30*F30) -> 10.1635 | H30: 99 | I30: =IF(H30="-","-",H30*D30) -> 2.475 | J30: =SUM(G30,I30) -> 12.6385
A31: 2.3 | B31: =[5]งานคอนกรีต!$B$2 -> คอนกรีต 1 : 3 : 5 | D31: 0.03 | E31: =[5]งานคอนกรีต!$C$2 -> ลบ.ม. | F31: 1705.61 | G31: =IF(F31="-","-",D31*F31) -> 51.1683 | H31: 398 | I31: =IF(H31="-","-",H31*D31) -> 11.94 | J31: =SUM(G31,I31) -> 63.1083
A32: 2.4 | B32: =[5]งานคอนกรีต!$B$3 -> คอนกรีต 1 : 2 : 4 (ซีเมนต์ไม่น้อยกว่า 320 กก/ลบ.ม.) | D32: 0.14 | E32: =[5]งานคอนกรีต!$C$3 -> ลบ.ม. | F32: 1799.07 | G32: =IF(F32="-","-",D32*F32) -> 251.8698 | H32: 498 | I32: =IF(H32="-","-",H32*D32) -> 69.72 | J32: =SUM(G32,I32) -> 321.5898
A33: 2.5 | B33: =[5]เหล็กเส้นกลม!$B$9 -> เหล็กเสริม | D33: 29.91 | E33: =[5]เหล็กเส้นกลม!$C$9 -> กก. | F33: 19.35 | G33: =IF(F33="-","-",D33*F33) -> 578.7585 | H33: 3.4 | I33: =IF(H33="-","-",H33*D33) -> 101.694 | J33: =SUM(G33,I33) -> 680.4525
A34: 2.6 | B34: =[5]เหล็กเส้นกลม!$B$8 -> ลวดผูกเหล็ก No 18 | D34: 0.4 | E34: =[5]เหล็กเส้นกลม!$C$8 -> กก. | F34: 24 | G34: =IF(F34="-","-",D34*F34) -> 9.6 | H34: =[5]เหล็กเส้นกลม!$E$8 -> - | I34: =IF(H34="-","-",H34*D34) -> - | J34: =SUM(G34,I34) -> 9.6
A35: 2.7 | B35: ='[5]งานผิวผนัง-ผิวพื้น'!$B$2 -> ฉาบปูนเรียบธรรมดา | D35: 1.5 | E35: ='[5]งานผิวผนัง-ผิวพื้น'!$C$2 -> ตร.ม. | F35: ='[5]งานผิวผนัง-ผิวพื้น'!$D$2 -> 55 | G35: =IF(F35="-","-",D35*F35) -> 82.5 | H35: 82 | I35: =IF(H35="-","-",H35*D35) -> 123 | J35: =SUM(G35,I35) -> 205.5
A36: 2.8 | B36: =[5]งานทาสี!$B$2 -> ทาสีน้ำพลาสติก | D36: 1.5 | E36: =[5]งานทาสี!$C$2 -> ตร.ม. | F36: =[5]งานทาสี!$D$2 -> 35 | G36: =IF(F36="-","-",D36*F36) -> 52.5 | H36: 30 | I36: =IF(H36="-","-",H36*D36) -> 45 | J36: =SUM(G36,I36) -> 97.5
A37: 2.9 | B37: =[5]งานแบบหล่อ!$B$3 -> ไม้แบบหล่อคอนกรีตทั่วไป 80 % พร้อมไม้คร่าว | D37: 0.57 | E37: =[5]งานแบบหล่อ!$C$3 -> ตร.ม. | F37: 400 | G37: =IF(F37="-","-",D37*F37) -> 228 | H37: 133 | I37: =IF(H37="-","-",H37*D37) -> 75.81 | J37: =SUM(G37,I37) -> 303.81
A38: 2.1 | B38: =[5]งานแบบหล่อ!$B$6 -> ตะปู | D38: 0.1 | E38: =[5]งานแบบหล่อ!$C$6 -> กก. | F38: 27 | G38: =IF(F38="-","-",D38*F38) -> 2.7 | H38: =[5]งานแบบหล่อ!$E$6 -> - | I38: =IF(H38="-","-",H38*D38) -> - | J38: =SUM(G38,I38) -> 2.7
C39: รวมเงิน (2) | G39: =SUM(G29:G38) -> 1267.2601 | I39: =SUM(I29:I38) -> 454.639 | J39: =SUM(J29:J38) -> 1721.8991
C40: เสามุมรั้วคิดเป็นเงินรวม | D40: 4 | E40: ต้น | F40: =G39 -> 1267.2601 | G40: =IF(F40="-","-",D40*F40) -> 5069.0404 | H40: =I39 -> 454.639 | I40: =IF(H40="-","-",H40*D40) -> 1818.556 | J40: =SUM(G40,I40) -> 6887.5964
C41: รวมเป็นเงิน (1) + (2) | G41: =SUM(G26+G40) -> 11523.04 | I41: =SUM(I26+I40) -> 3426.556 | J41: =SUM(G41,I41) -> 14949.596 | K41: =ROUNDDOWN(J41,-1) -> 14940
B42: 3. รั้ว,เสารั้วต่อ 10 ช่วงเสา (ยาว 20 ม.)
A43: 3.1 | B43: =[5]งานดิน!$B$2 -> ขุดดินหลุมฐานราก/ถมคืน | D43: 1 | E43: =[5]งานดิน!$C$2 -> ลบ.ม. | F43: - | G43: =IF(F43="-","-",D43*F43) -> - | H43: 125 | I43: =IF(H43="-","-",H43*D43) -> 125 | J43: =SUM(G43,I43) -> 125
A44: 3.2 | B44: =[5]งานคอนกรีต!$B$3 -> คอนกรีต 1 : 2 : 4 (ซีเมนต์ไม่น้อยกว่า 320 กก/ลบ.ม.) | D44: 0.105 | E44: =[5]งานคอนกรีต!$C$3 -> ลบ.ม. | F44: 1799.07 | G44: =IF(F44="-","-",D44*F44) -> 188.90235 | H44: 498 | I44: =IF(H44="-","-",H44*D44) -> 52.29 | J44: =SUM(G44,I44) -> 241.19235
...

Sheet ประสานท่อ
A1: ประมาณราคาค่าก่อสร้าง | C1: การประสานท่อระหว่างระบบ
A2: ='[6]แบบ ปร.6'!$A$2 -> สถานที่ก่อสร้าง | C2: =โรงสูบน้ำ!C2 -> บ้านหัวตลาด หมู่ที่ 4 ตำบลสำพะเนียง อำเภอโนนแดง จังหวัดนครราชสีมา
A3: ส่วนเทคโนโลยีและมาตราฐาน | C3: =โรงสูบน้ำ!C3 -> สำนักบริหารจัดการน้ำ กรมทรัพยากรน้ำ | H3: แบบเลขที่ | I3: 991014
A6: ลำดับที่ | B6: รายการ | D6: จำนวนหน่วย | F6: ค่าวัสดุสิ่งของ | H6: ค่าแรง | J6: ค่าวัสดุและ | K6: หมายเหตุ
F7: ราคา/หน่วย | G7: เป็นเงิน | H7: ราคา/หน่วย | I7: เป็นเงิน | J7: ค่าแรงงาน
A8: 1 | B8: ท่อเหล็กอาบสังกะสี Ø 3 นิ้ว | D8: 10 | E8: ท่อน | F8: 1649 | G8: =D8*F8 -> 16490 | H8: 0 | I8: =H8*D8 -> 0 | J8: =I8+G8 -> 16490
A9: 2 | B9: ท่อเหล็กอาบสังกะสี Ø 4 นิ้ว | D9: 4 | E9: ท่อน | F9: 2403 | G9: =D9*F9 -> 9612 | H9: 0 | I9: =H9*D9 -> 0 | J9: =I9+G9 -> 9612
A10: 3 | B10: ข้องอ 90 0 G/S Ø 2 นิ้ว | D10: 2 | E10: ตัว | F10: 81 | G10: =D10*F10 -> 162 | H10: 0 | I10: =H10*D10 -> 0 | J10: =I10+G10 -> 162
A11: 4 | B11: ข้องอ 90 0 G/S Ø 3 นิ้ว | D11: 3 | E11: ตัว | F11: 277 | G11: =D11*F11 -> 831 | H11: 0 | I11: =H11*D11 -> 0 | J11: =I11+G11 -> 831
A12: 5 | B12: ข้องอ 90 0 G/S Ø 4 นิ้ว | D12: 2 | E12: ตัว | F12: 382 | G12: =D12*F12 -> 764 | H12: 0 | I12: =H12*D12 -> 0 | J12: =I12+G12 -> 764
A13: 6 | B13: สามทางลดเหล็กอาบสังกะสี Ø 3 นิ้ว - 3/4 นิ้ว | D13: 1 | E13: ตัว | F13: 273 | G13: =D13*F13 -> 273 | H13: 0 | I13: =H13*D13 -> 0 | J13: =I13+G13 -> 273
A14: 7 | B14: สามทางลด G/S Ø 4 นิ้วx 3/4 นิ้ว | D14: 1 | E14: ตัว | F14: 460 | G14: =D14*F14 -> 460 | H14: 0 | I14: =H14*D14 -> 0 | J14: =I14+G14 -> 460
A15: 8 | B15: สามทางลด G/S Ø 4 นิ้วx 1/2 นิ้ว | D15: 1 | E15: ตัว | F15: 480 | G15: =D15*F15 -> 480 | H15: 0 | I15: =H15*D15 -> 0 | J15: =I15+G15 -> 480
A16: 9 | B16: สามทางลด G/S Ø 2 นิ้วx 3/4 นิ้ว | D16: 1 | E16: ตัว | F16: 100 | G16: =D16*F16 -> 100 | H16: 0 | I16: =H16*D16 -> 0 | J16: =I16+G16 -> 100
A17: 10 | B17: ข้อลดกลมเหล็กอาบสังกะสี Ø 4 นิ้วx 3 นิ้ว | D17: 1 | E17: ตัว | F17: 290 | G17: =D17*F17 -> 290 | H17: 0 | I17: =H17*D17 -> 0 | J17: =I17+G17 -> 290
A18: 11 | B18: นิปเปิ้ลเหล็กอาบสังกะสี Ø 4 นิ้ว | D18: 1 | E18: ตัว | F18: 134 | G18: =D18*F18 -> 134 | H18: 0 | I18: =H18*D18 -> 0 | J18: =I18+G18 -> 134
A19: 12 | B19: หน้าจานเกลียว Ø 4 นิ้ว | D19: 3 | E19: ตัว | F19: 490 | G19: =D19*F19 -> 1470 | H19: 0 | I19: =H19*D19 -> 0 | J19: =I19+G19 -> 1470
... A32: 25 | B32: ข้อโค้ง 90 ๐ เหล็กหล่อหน้าจาน 2 ด้าน 3 นิ้ว | D32: 2 | E32: ตัว | F32: 1375 | G32: =D32*F32 -> 2750 | H32: 0 | I32: =H32*D32 -> 0 | J32: =I32+G32 -> 2750
B33: รวมยอดยกไป | G33: =SUM(G8:G32) -> 60037 | I33: =SUM(I8:I32) -> 0 | J33: =SUM(J8:J32) -> 60037
B34: รวมยอดยกมา | G34: =G33 -> 60037 | I34: =I33 -> 0 | J34: =G34+I34 -> 60037
A35: 26 | B35: ข้อโค้ง 45 ๐ เหล็กหล่อหน้าจาน 2 ด้าน 3 นิ้ว | D35: 2 | E35: ตัว | F35: 1495 | G35: =D35*F35 -> 2990 | H35: 0 | I35: 0 | J35: =I35+G35 -> 2990
A36: 27 | B36: สามทางเหล็กหล่อ Ø 4 นิ้ว | D36: 1 | E36: ตัว | F36: 2350 | G36: =D36*F36 -> 2350 | H36: 0 | I36: =H36*D36 -> 0 | J36: =I36+G36 -> 2350
A37: 28 | B37: ค่าแรงประกอบและติดตั้ง | D37: 1 | E37: เหมา | F37: 0 | G37: =D37*F37 -> 0 | H37: 9800 | I37: =H37*D37 -> 9800 | J37: =I37+G37 -> 9800
B38: รวมค่าวัสดุและแรงงานเป็นเงิน | G38: =SUM(G34:G37) -> 65377 | I38: =SUM(I34:I37) -> 9800 | J38: =SUM(J34:J37) -> 75177
J39: =ROUNDDOWN(J38,-1) -> 75170
H40: =CONCATENATE("(",BAHTTEXT(J39),")") -> (เจ็ดหมื่นห้าพันหนึ่งร้อยเจ็ดสิบบาทถ้วน)

Sheet ประสานท่อภายในโรงสูบน้ำ
A1: ประมาณราคาค่าก่อสร้าง | D1: การประสานท่อภายในโรงสูบน้ำ
A2: ='[4]แบบ ปร.6'!$A$2 -> สถานที่ก่อสร้าง | D2: =โรงสูบน้ำ!C2 -> บ้านหัวตลาด หมู่ที่ 4 ตำบลสำพะเนียง อำเภอโนนแดง จังหวัดนครราชสีมา
A3: ส่วนเทคโนโลยีและมาตราฐาน | D3: =โรงสูบน้ำ!C3 -> สำนักบริหารจัดการน้ำ กรมทรัพยากรน้ำ | J3: แบบเลขที่ | K3: 911013
A6: ลำดับที่ | B6: รายการ | F6: จำนวนหน่วย | H6: ค่าวัสดุสิ่งของ | J6: ค่าแรงงาน | L6: ค่าวัสดุและ | M6: หมายเหตุ
H7: ราคาต่อหน่วย | I7: เป็นเงิน | J7: ราคาต่อหน่วย | K7: เป็นเงิน | L7: ค่าแรงงาน
A8: 1 | B8: ท่อเหล็กอาบสังกะสี + ข้อต่อยาว 6 เมตร Ø 2 " | F8: 2 | G8: ท่อน | H8: 1090 | I8: =INT(H8*F8) -> 2180 | L8: =K8+I8 -> 2180
A9: 2 | B9: ท่อเหล็กอาบสังกะสี + ข้อต่อยาว 6 เมตร Ø 1 1/2" | F9: 1 | G9: ท่อน | H9: 770 | I9: =INT(H9*F9) -> 770 | L9: =K9+I9 -> 770
A10: 3 | B10: ท่อเหล็กอาบสังกะสี + ข้อต่อยาว 6 เมตร Ø 1/2" | F10: 2 | G10: ท่อน | H10: 268 | I10: =INT(H10*F10) -> 536 | L10: =K10+I10 -> 536
A11: 4 | B11: ท่อปลอกเหล็กอาบสังกะสี Ø 3" x 15 ซ.ม. | F11: 3 | G11: ท่อน | H11: 70 | I11: =INT(H11*F11) -> 210 | L11: =K11+I11 -> 210
A12: 5 | B12: ข้อลดกลมเหล็กอาบสังกะสี Ø 2" x 1 1/2" | F12: 2 | G12: ตัว | H12: 53 | I12: =INT(H12*F12) -> 106 | L12: =K12+I12 -> 106
A13: 6 | B13: ข้อโค้ง 45 เหล็กอาบสังกะสี Ø 2" | F13: 2 | G13: ตัว | H13: 133 | I13: =INT(H13*F13) -> 266 | L13: =K13+I13 -> 266
A14: 7 | B14: ข้อโค้ง 45 เหล็กอาบสังกะสี Ø 1 1/2" | F14: 2 | G14: ตัว | H14: 105 | I14: =INT(H14*F14) -> 210 | L14: =K14+I14 -> 210
A15: 8 | B15: ข้อลดเหล็กเหนียวหน้าจาน 2 ด้าน Ø 2"- 1" | F15: 2 | G15: ตัว | H15: 480 | I15: =INT(H15*F15) -> 960 | L15: =K15+I15 -> 960
A16: 9 | B16: หน้าจานเกลียวใน Ø 2" | F16: 2 | G16: ตัว | H16: 180 | I16: =INT(H16*F16) -> 360 | L16: =K16+I16 -> 360
A17: 10 | B17: น๊อตหน้าจาน | F17: 16 | G17: ตัว | H17: 30 | I17: =INT(H17*F17) -> 480 | L17: =K17+I17 -> 480
A18: 11 | B18: สามทางเหล็กอาบสังกะสี Ø 2" | F18: 3 | G18: ตัว | H18: 116 | I18: =INT(H18*F18) -> 348 | L18: =K18+I18 -> 348
A19: 12 | B19: เช็ควาล์วทองเหลือง Ø 2" | F19: 2 | G19: ตัว | H19: 640 | I19: =INT(H19*F19) -> 1280 | L19: =K19+I19 -> 1280
... A33: 26 | B33: เกจวัดความดันท่อ 0-60 PSI | F33: 2 | G33: อัน | H33: 250 | I33: =INT(H33*F33) -> 500 | L33: =K33+I33 -> 500
B34: ภายในบรรจุน้ำมันกรีเซอรีน
E35: รวมยอดยกไป | I35: =SUM(I8:I33) -> 12120 | K35: =SUM(K8:K33) -> 0 | L35: =SUM(L8:L33) -> 12120
E36: รวมยอดยกมา | I36: =I35 -> 12120 | K36: =K35 -> 0 | L36: =I36+K36 -> 12120
A37: 27 | B37: เทปพันเกลียว | F37: 7 | G37: ม้วน | H37: ='[5]อื่น ๆ'!$D$22 -> 12 | I37: =INT(H37*F37) -> 84 | L37: =K37+I37 -> 84
A38: 28 | B38: ทำเกลียว | F38: 70 | G38: จุด | H38: 0 | I38: =INT(H38*F38) -> 0 | J38: 15 | K38: =INT(J38*F38) -> 1050 | L38: =K38+I38 -> 1050
A39: 29 | B39: ค่าแรงประกอบติดตั้ง | K39: 2100 | L39: =K39+I39 -> 2100
B40: รวมค่าวัสดุและแรงงาน | I40: =SUM(I36:I38) -> 12204 | K40: =SUM(K36:K39) -> 3150 | L40: =SUM(L36:L39) -> 15354
B41: เป็นเงิน | L41: =ROUNDDOWN(L40,-1) -> 15350
M42: =CONCATENATE("(เงิน",BAHTTEXT(L41),")") -> (เงินหนึ่งหมื่นห้าพันสามร้อยห้าสิบบาทถ้วน)

Sheet ทดสอบดิน
A1: ประมาณราคาค่าก่อสร้าง | C1: ทดสอบความสามารถในการรับน้ำหนักบรรทุกของดิน
A2: ='แบบ ปร.6'!$A$2 -> สถานที่ก่อสร้าง | C2: =โรงสูบน้ำ!C2 -> บ้านหัวตลาด หมู่ที่ 4 ตำบลสำพะเนียง อำเภอโนนแดง จังหวัดนครราชสีมา
A3: ส่วนเทคโนโลยีและมาตราฐาน | C3: =โรงสูบน้ำ!C3 -> สำนักบริหารจัดการน้ำ กรมทรัพยากรน้ำ | H3: แบบเลขที่ | I3: รายการฯ เฉพาะแห่ง
A6: ลำดับที่ | B6: รายการ | D6: จำนวนหน่วย | F6: ค่าวัสดุ | H6: ค่าแรง | J6: ค่าวัสดุและ | K6: หมายเหตุ
F7: ราคาต่อหน่วย | G7: เป็นเงิน | H7: ราคาต่อหน่วย | I7: เป็นเงิน | J7: ค่าแรงงาน
A8: 1 | B8: =[2]งานดิน!$B$8 -> ทดสอบดินวิธี Boring Test (SPT.) | D8: 1 | E8: {=[2]งานดิน!$C$8:$D$8} -> จุด | F8: - | G8: =IF(F8="-","-",D8*F8) -> - | H8: 13500 | I8: =IF(H8="-","-",H8*D8) -> 13500 | J8: =SUM(G8,I8) -> 13500
C12: รวมเงิน | G12: =SUM(G8:G11) -> 0 | I12: =SUM(I8:I11) -> 13500 | J12: =SUM(J8:J11) -> 13500
C13: คิดเป็นเงินค่างาน | J13: =ROUNDDOWN(J12,0) -> 13500

Sheet ระบบไฟฟ้าภายนอก-ภายใน
A1: ประมาณราคาค่าก่อสร้าง | C1: การประสานระบบไฟฟ้าภายในบริเวณ
A2: ='[6]แบบ ปร.6'!$A$2 -> สถานที่ก่อสร้าง | C2: =โรงสูบน้ำ!C2 -> บ้านหัวตลาด หมู่ที่ 4 ตำบลสำพะเนียง อำเภอโนนแดง จังหวัดนครราชสีมา
A3: ส่วนเทคโนโลยีและมาตราฐาน | C3: =โรงสูบน้ำ!C3 -> สำนักบริหารจัดการน้ำ กรมทรัพยากรน้ำ | H3: แบบเลขที่ | I3: รายการฯ เฉพาะแห่ง
A6: ลำดับที่ | B6: รายการ | D6: จำนวนหน่วย | F6: ค่าวัสดุ | H6: ค่าแรง | J6: ค่าวัสดุและ | K6: หมายเหตุ
F7: ราคาต่อหน่วย | G7: เป็นเงิน | H7: ราคาต่อหน่วย | I7: เป็นเงิน | J7: ค่าแรงงาน
B8: ก. ระบบไฟฟ้าภายนอก (การไฟฟ้าฯ ดำเนินการ)
A9: 1 | B9: ขยายเขตแรงต่ำ
B10: [ ] ปักเสา คอร. ยาว.....ม. (8,9 ม.) จำนวน....ต้น ระยะทาง.....ม.
B11: [ ] พาดสาย..............ม.
A12: 2 | B12: ขยายเขตแรงสูง (ภายนอก-ภายใน) | D12: 1 | E12: ชุด | F12: 0 | G12: =IF(F12="-","-",D12*F12) -> 0 | H12: 0 | I12: =IF(H12="-","-",H12*D12) -> 0 | J12: =SUM(G12,I12) -> 0
B13: [ ] ปักเสา คอร. ยาว....ม. (12,14 ม.) จำนวน....ต้น ระยะทาง.....ม.
B14: [ ] ติดตั้งหม้อแปลง 1 เฟส ขนาด 30 KVA.
B15: [ ] ติดตั้งหม้อแปลง 3 เฟส ขนาด.........KVA.
B16: [ ] แผนกคาปาชิเตอร์
A17: 3 | B17: ติดตั้งมิเตอร์ขนาด 3 เฟส 30 แอมป์ | D17: 1 | E17: รายการ | F17: 0 | G17: =IF(F17="-","-",D17*F17) -> 0 | H17: 0 | I17: =IF(H17="-","-",H17*D17) -> 0 | J17: =SUM(G17,I17) -> 0
C18: รวมเงิน | G18: =SUM(G12:G17) -> 0 | I18: =SUM(I8:I17) -> 0 | J18: =SUM(J12:J17) -> 0
C19: คิดเป็นเงิน | G19: =ROUNDDOWN(SUM(G18),0) -> 0 | I19: =ROUNDDOWN(SUM(I18),0) -> 0 | J19: =SUM(G19,I19) -> 0
B21: ข. ระบบไฟฟ้าภายใน (ผู้รับจ้างดำเนินการ)
A22: 1 | B22: =[5]งานไฟฟ้า!$B$6 -> เสาไฟฟ้า คอร. ยาวไม่น้อยกว่า 8.00 ม. | D22: 1 | E22: =[5]งานไฟฟ้า!$C$6 -> ต้น | F22: 3500 | G22: =IF(F22="-","-",D22*F22) -> 3500 | H22: =[5]งานไฟฟ้า!$E$6 -> 500 | I22: =IF(H22="-","-",H22*D22) -> 500 | J22: =SUM(G22,I22) -> 4000
A23: 2 | B23: สายไฟฟ้าอลูมิเนียมหุ้มฉนวน
B24: พื้นที่หน้าตัดไม่น้อยกว่า 25 ตร.มม. | D24: 100 | E24: =[5]งานไฟฟ้า!$C$7 -> ม. | F24: =[5]งานไฟฟ้า!$D$7 -> 25 | G24: =IF(F24="-","-",D24*F24) -> 2500 | H24: 0 | I24: =IF(H24="-","-",H24*D24) -> 0 | J24: =SUM(G24,I24) -> 2500
A25: 3 | B25: =[5]งานไฟฟ้า!$B$8 -> แผงควบคุมไฟฟ้าในโรงสูบน้ำ | D25: 1 | E25: =[5]งานไฟฟ้า!$C$8 -> ชุด | F25: 2200 | G25: =IF(F25="-","-",D25*F25) -> 2200 | H25: 210 | I25: =IF(H25="-","-",H25*D25) -> 210 | J25: =SUM(G25,I25) -> 2410
A26: 4 | B26: =[5]งานไฟฟ้า!$B$9 -> อุปกรณ์โยงยึดสายไฟฟ้า | D26: 4 | E26: =[5]งานไฟฟ้า!$C$9 -> ชุด | F26: 350 | G26: =IF(F26="-","-",D26*F26) -> 1400 | H26: 200 | I26: =IF(H26="-","-",H26*D26) -> 800 | J26: =SUM(G26,I26) -> 2200
A27: 5 | B27: =[5]งานไฟฟ้า!$B$10 -> สวิทซ์ลูกลอยอัตโนมัติ | D27: 2 | E27: =[5]งานไฟฟ้า!$C$10 -> ชุด | F27: 1320 | G27: =IF(F27="-","-",D27*F27) -> 2640 | H27: 450 | I27: =IF(H27="-","-",H27*D27) -> 900 | J27: =SUM(G27,I27) -> 3540
A28: 6 | B28: =[5]งานไฟฟ้า!$B$13 -> สายไฟฟ้า(ควบคุมสวิทซ์ลูกลอย) | D28: 40 | E28: =[5]งานไฟฟ้า!$C$13 -> ม. | F28: =[5]งานไฟฟ้า!$D$13 -> 15 | G28: =IF(F28="-","-",D28*F28) -> 600 | H28: 5 | I28: =IF(H28="-","-",H28*D28) -> 200 | J28: =SUM(G28,I28) -> 800
C30: รวมเงิน | G30: =SUM(G22:G29) -> 12840 | I30: =SUM(I22:I29) -> 2610 | J30: =SUM(J22:J29) -> 15450
C31: คิดเป็นเงินค่างาน | J31: =ROUNDDOWN(J30,0) -> 15450

Sheet สระพักตะกอน-
A1: ประมาณราคาค่าก่อสร้าง | C1: สระพักตะกอน
A2: ='[4]แบบ ปร.6'!$A$2 -> สถานที่ก่อสร้าง | C2: =โรงสูบน้ำ!C2 -> บ้านหัวตลาด หมู่ที่ 4 ตำบลสำพะเนียง อำเภอโนนแดง จังหวัดนครราชสีมา
A3: ส่วนเทคโนโลยีและมาตรฐาน | C3: =โรงสูบน้ำ!C3 -> สำนักบริหารจัดการน้ำ กรมทรัพยากรน้ำ | H3: แบบเลขที่ | I3: 991014
A6: ลำดับที่ | B6: รายการ | D6: จำนวนหน่วย | F6: ค่าวัสดุ | H6: ค่าแรง | J6: ค่าวัสดุและ | K6: หมายเหตุ
F7: ราคา/หน่วย | G7: เป็นเงิน | H7: ราคาต่อหน่วย | I7: เป็นเงิน | J7: ค่าแรงงาน
A8: 1 | B8: ขุดดิน | D8: 32 | E8: =[5]งานดิน!$C$2 -> ลบ.ม. | F8: 0 | G8: =F8*D8 -> 0 | H8: 85 | I8: =H8*D8 -> 2720 | J8: =I8+G8 -> 2720
A9: 2 | B9: ='[5]อื่น ๆ'!$B$72 -> เรียงหินยาแนว | D9: 5 | E9: ='[5]อื่น ๆ'!$C$72 -> ตร.ม. | F9: ='[5]อื่น ๆ'!$D$72 -> 910 | G9: =F9*D9 -> 4550 | H9: ='[5]อื่น ๆ'!$E$72 -> 300 | I9: =H9*D9 -> 1500 | J9: =I9+G9 -> 6050
C14: รวมเงิน | G14: =SUM(G8:G13) -> 4550 | I14: =SUM(I8:I13) -> 4220 | J14: =SUM(J8:J13) -> 8770
C15: คิดเป็นเงิน | J15: =ROUNDDOWN(J14,-1) -> 8770

Sheet โรงกรอง
A1: ประมาณราคาค่าก่อสร้าง | C1: ระบบกรองน้ำผิวดินขนาด 5 ม.3/ชม. (ตอกเข็ม)
A2: ='[4]แบบ ปร.6'!$A$2 -> สถานที่ก่อสร้าง | C2: =โรงสูบน้ำ!C2 -> บ้านหัวตลาด หมู่ที่ 4 ตำบลสำพะเนียง อำเภอโนนแดง จังหวัดนครราชสีมา
A3: ส่วนเทคโนโลยีและมาตราฐาน | C3: =โรงสูบน้ำ!C3 -> สำนักบริหารจัดการน้ำ กรมทรัพยากรน้ำ | H3: แบบเลขที่ | I3: 1141005
A6: ลำดับที่ | B6: รายการ | D6: จำนวนหน่วย | F6: ค่าวัสดุ | H6: ค่าแรง | J6: ค่าวัสดุและ | K6: หมายเหตุ
F7: ราคาต่อหน่วย | G7: เป็นเงิน | H7: ราคาต่อหน่วย | I7: เป็นเงิน | J7: ค่าแรงงาน
B8: 1. งานดิน
A9: 1.1 | B9: =[5]งานดิน!$B$2 -> ขุดดินหลุมฐานราก/ถมคืน | D9: 12 | E9: =[5]งานดิน!$C$2 -> ลบ.ม. | F9: =[5]งานดิน!$D$2 -> - | G9: =IF(F9="-","-",D9*F9) -> - | H9: 125 | I9: =IF(H9="-","-",H9*D9) -> 1500 | J9: =SUM(G9,I9) -> 1500
A10: 1.2 | B10: =[5]งานดิน!$B$6 -> ทรายหยาบ,ทรายหยาบรองพื้น | D10: 6 | E10: =[5]งานดิน!$C$6 -> ลบ.ม. | F10: 406.54 | G10: =IF(F10="-","-",D10*F10) -> 2439.24 | H10: 99 | I10: =IF(H10="-","-",H10*D10) -> 594 | J10: =SUM(G10,I10) -> 3033.24
B11: 2. งานแบบหล่อ
A12: 2.1 | B12: =[5]งานแบบหล่อ!$B$3 -> ไม้แบบหล่อคอนกรีตทั่วไป 80 % พร้อมไม้คร่าว | D12: 197 | E12: =[5]งานแบบหล่อ!$C$3 -> ตร.ม. | F12: 400 | G12: =IF(F12="-","-",D12*F12) -> 78800 | H12: 133 | I12: =IF(H12="-","-",H12*D12) -> 26201 | J12: =SUM(G12,I12) -> 105001
A13: 2.2 | B13: =[5]งานแบบหล่อ!$B$6 -> ตะปู | D13: 49 | E13: =[5]งานแบบหล่อ!$C$6 -> กก. | F13: 27 | G13: =IF(F13="-","-",D13*F13) -> 1323 | H13: =[5]งานแบบหล่อ!$E$6 -> - | I13: =IF(H13="-","-",H13*D13) -> - | J13: =SUM(G13,I13) -> 1323
B14: 3. งานคอนกรีต
A15: 3.1 | B15: =[5]งานคอนกรีต!$B$2 -> คอนกรีต 1 : 3 : 5 | D15: 2 | E15: =[5]งานคอนกรีต!$C$2 -> ลบ.ม. | F15: 1705.61 | G15: =IF(F15="-","-",D15*F15) -> 3411.22 | H15: 398 | I15: =IF(H15="-","-",H15*D15) -> 796 | J15: =SUM(G15,I15) -> 4207.22
A16: 3.2 | B16: =[5]งานคอนกรีต!$B$3 -> คอนกรีต 1 : 2 : 4 (ซีเมนต์ไม่น้อยกว่า 320 กก/ลบ.ม.) | D16: 6 | E16: =[5]งานคอนกรีต!$C$3 -> ลบ.ม. | F16: 1799.07 | G16: =IF(F16="-","-",D16*F16) -> 10794.42 | H16: 498 | I16: =IF(H16="-","-",H16*D16) -> 2988 | J16: =SUM(G16,I16) -> 13782.42
A17: 3.3 | B17: =[5]งานคอนกรีต!$B$4 -> คอนกรีต 1 : 1 1/2 : 3 (ซีเมนต์ไม่น้อยกว่า 400 กก/ลบ.ม.) | D17: 20 | E17: =[5]งานคอนกรีต!$C$4 -> ลบ.ม. | F17: 2102 | G17: =IF(F17="-","-",D17*F17) -> 42040 | H17: 498 | I17: =IF(H17="-","-",H17*D17) -> 9960 | J17: =SUM(G17,I17) -> 52000
A18: 3.4 | B18: =[5]งานคอนกรีต!$B$5 -> ปูนทราย 1 : 4 | D18: 1 | E18: ลบ.ม. | F18: 1200 | G18: =IF(F18="-","-",D18*F18) -> 1200 | H18: 376 | I18: =IF(H18="-","-",H18*D18) -> 376 | J18: =SUM(G18,I18) -> 1576
B19: 4. งานเหล็ก
A20: 4.1 | B20: =[5]เหล็กเส้นกลม!$B$2 -> เหล็กเส้นกลม dia. 6 มม. (2.22 กก./เส้น) | D20: 45 | E20: =[5]เหล็กเส้นกลม!$C$2 -> กก. | F20: 18.31 | G20: =IF(F20="-","-",D20*F20) -> 823.95 | H20: 3.4 | I20: =IF(H20="-","-",H20*D20) -> 153 | J20: =SUM(G20,I20) -> 976.95
A21: 4.2 | B21: =[5]เหล็กเส้นกลม!$B$3 -> เหล็กเส้นกลม dia. 9 มม. (4.99 กก./เส้น) | D21: 635 | E21: =[5]เหล็กเส้นกลม!$C$3 -> กก. | F21: 17.13 | G21: =IF(F21="-","-",D21*F21) -> 10877.55 | H21: 3.4 | I21: =IF(H21="-","-",H21*D21) -> 2159 | J21: =SUM(G21,I21) -> 13036.55
A22: 4.3 | B22: =[5]เหล็กเส้นกลม!$B$4 -> เหล็กเส้นกลม dia. 12 มม. (8.88 กก./เส้น) | D22: 710 | E22: =[5]เหล็กข้ออ้อย!$C$2 -> กก. | F22: 19.2 | G22: =IF(F22="-","-",D22*F22) -> 13632 | H22: 3.4 | I22: =IF(H22="-","-",H22*D22) -> 2414 | J22: =SUM(G22,I22) -> 16046
A23: 4.4 | B23: =[5]เหล็กข้ออ้อย!$B$3 -> เหล็กข้ออ้อย dia 16 มม. (15.8 กก./เส้น) | D23: 90 | E23: =[5]เหล็กข้ออ้อย!$C$3 -> กก. | F23: 18.66 | G23: =IF(F23="-","-",D23*F23) -> 1679.4 | H23: 3.4 | I23: =IF(H23="-","-",H23*D23) -> 306 | J23: =SUM(G23,I23) -> 1985.4
A24: 4.5 | B24: =[5]เหล็กเส้นกลม!$B$8 -> ลวดผูกเหล็ก No 18 | D24: 45 | E24: =[5]เหล็กเส้นกลม!$C$8 -> กก. | F24: 24 | G24: =IF(F24="-","-",D24*F24) -> 1080 | H24: =[5]เหล็กเส้นกลม!$E$8 -> - | I24: =IF(H24="-","-",H24*D24) -> - | J24: =SUM(G24,I24) -> 1080
B25: 5. งานท่อและอุปกรณ์
A26: 5.1 | B26: =[5]GS.!$B$8 -> ท่อเหล็กอาบสังกะสี+ข้อต่อยาว6ม. dia 2 1/2" | D26: 1 | E26: =[5]GS.!$C$12 -> ท่อน | F26: 1382 | G26: =IF(F26="-","-",D26*F26) -> 1382 | H26: 276 | I26: =IF(H26="-","-",H26*D26) -> 276 | J26: =SUM(G26,I26) -> 1658
A27: 5.2 | B27: =[5]GS.!$B$293 -> ท่อเหล็กอาบสังกะสี dia 4" | D27: 2 | E27: =[5]GS.!$C$293 -> ท่อน | F27: 2403 | G27: =IF(F27="-","-",D27*F27) -> 4806 | H27: 192 | I27: =IF(H27="-","-",H27*D27) -> 384 | J27: =SUM(G27,I27) -> 5190
A28: 5.3 | B28: =[5]GS.!$B$292 -> ท่อเหล็กอาบสังกะสี dia 3" | D28: 2 | E28: =[5]GS.!$C$292 -> ท่อน | F28: 1649 | G28: =IF(F28="-","-",D28*F28) -> 3298 | H28: 150 | I28: =IF(H28="-","-",H28*D28) -> 300 | J28: =SUM(G28,I28) -> 3598
A29: 5.4 | B29: =[5]GS.!$B$7 -> ท่อเหล็กอาบสังกะสี+ข้อต่อยาว6ม. dia 2" | D29: 1 | E29: =[5]GS.!$C$7 -> ท่อน | F29: 1090 | G29: =IF(F29="-","-",D29*F29) -> 1090 | H29: 100 | I29: =IF(H29="-","-",H29*D29) -> 100 | J29: =SUM(G29,I29) -> 1190
A30: 5.5 | B30: =[5]GS.!$B$6 -> ท่อเหล็กอาบสังกะสี+ข้อต่อยาว6ม. dia 1 1/2" | D30: 1 | E30: =[5]GS.!$C$6 -> ท่อน | F30: 770 | G30: =IF(F30="-","-",D30*F30) -> 770 | H30: 90 | I30: =IF(H30="-","-",H30*D30) -> 90 | J30: =SUM(G30,I30) -> 860
A31: 5.6 | B31: =[5]GS.!$B$4 -> ท่อเหล็กอาบสังกะสี+ข้อต่อยาว6ม. dia 1" | D31: 4 | E31: =[5]GS.!$C$4 -> ท่อน | F31: 516 | G31: =IF(F31="-","-",D31*F31) -> 2064 | H31: 80 | I31: =IF(H31="-","-",H31*D31) -> 320 | J31: =SUM(G31,I31) -> 2384
A32: 5.7 | B32: =[5]GS.!$B$3 -> ท่อเหล็กอาบสังกะสี+ข้อต่อยาว6ม. dia 3/4" | D32: 2 | E32: =[5]GS.!$C$3 -> ท่อน | F32: 323 | G32: =IF(F32="-","-",D32*F32) -> 646 | H32: 72 | I32: =IF(H32="-","-",H32*D32) -> 144 | J32: =SUM(G32,I32) -> 790
A33: 5.8 | B33: =[5]GS.!$B$2 -> ท่อเหล็กอาบสังกะสี+ข้อต่อยาว6ม. dia 1/2" | D33: 1 | E33: =[5]GS.!$C$2 -> ท่อน | F33: 268 | G33: =IF(F33="-","-",D33*F33) -> 268 | H33: 60 | I33: =IF(H33="-","-",H33*D33) -> 60 | J33: =SUM(G33,I33) -> 328
A34: 5.9 | B34: =[5]PVC1!$B$16 -> ท่อ PVC.ยาว 4 ม. ชั้น 8. 5 ปลายเรียบ dia 3/4" | D34: 2 | E34: =[5]PVC1!$C$16 -> ท่อน | F34: 46 | G34: =IF(F34="-","-",D34*F34) -> 92 | H34: 40 | I34: =IF(H34="-","-",H34*D34) -> 80 | J34: =SUM(G34,I34) -> 172
A35: 5.1 | B35: =[5]PVC1!$B$17 -> ท่อ PVC.ยาว 4 ม. ชั้น 8. 5 ปลายเรียบ dia 1" | D35: 1 | E35: =[5]PVC1!$C$17 -> ท่อน | F35: 60 | G35: =IF(F35="-","-",D35*F35) -> 60 | H35: 60 | I35: =IF(H35="-","-",H35*D35) -> 60 | J35: =SUM(G35,I35) -> 120
A36: 5.11 | B36: =[5]สแตนเลส!$B$3 -> ท่อแสตนเลส dia 1/2" | D36: 1 | E36: =[5]สแตนเลส!$C$3 -> ท่อน | F36: 920 | G36: =IF(F36="-","-",D36*F36) -> 920 | H36: =[5]สแตนเลส!$E$3 -> 60 | I36: =IF(H36="-","-",H36*D36) -> 60 | J36: =SUM(G36,I36) -> 980
A37: 5.12 | B37: =[5]PVC1!$B$144 -> ฝาครอบ PVC. ชั้น 13.5 dia 1 1/2" | D37: 6 | E37: =[5]PVC1!$C$144 -> ตัว | F37: 10 | G37: =IF(F37="-","-",D37*F37) -> 60 | H37: =[5]PVC1!$E$144 -> - | I37: =IF(H37="-","-",H37*D37) -> - | J37: =SUM(G37,I37) -> 60
A38: 5.13 | B38: ฝาครอบ G/S dia 4" | D38: 1 | E38: ตัว | F38: 120 | G38: =IF(F38="-","-",D38*F38) -> 120 | J38: =SUM(G38,I38) -> 120
A39: 5.14 | B39: ท่อ PVC Ø 1 1/2 " เจาะรู x 0.50 ม. | D39: 6 | E39: ท่อน | F39: 115 | G39: =IF(F39="-","-",D39*F39) -> 690 | J39: =SUM(G39,I39) -> 690
C40: รวมยอดยกไป | G40: =SUM(G8:G39) -> 184366.78 | I40: =SUM(I9:I39) -> 49321 | J40: =SUM(G40,I40) -> 233687.78
C41: รวมยอดยกมา | G41: =G40 -> 184366.78 | I41: =I40 -> 49321 | J41: =G41+I41 -> 233687.78
A42: 5.15 | B42: =[5]PVC1!$B$196 -> ข้อต่อเกลียวใน PVC. ชั้น 13.5 dia 1 1/2" | D42: 6 | E42: =[5]PVC1!$C$196 -> ตัว | F42: =[5]PVC1!$D$196 -> 13 | G42: =IF(F42="-","-",D42*F42) -> 78 | J42: =SUM(G42,I42) -> 78
...

Sheet ถังน้ำใส
A1: ประมาณราคาค่าก่อสร้าง | D1: ถังน้ำใสขนาด 25 ม3
A2: ='[4]แบบ ปร.6'!$A$2 -> สถานที่ก่อสร้าง | D2: =โรงสูบน้ำ!C2 -> บ้านหัวตลาด หมู่ที่ 4 ตำบลสำพะเนียง อำเภอโนนแดง จังหวัดนครราชสีมา
A3: ส่วนเทคโนโลยีและมาตราฐาน | D3: =โรงสูบน้ำ!C3 -> สำนักบริหารจัดการน้ำ กรมทรัพยากรน้ำ | J3: แบบเลขที่ | K3: 2211025
A6: ลำดับที่ | B6: รายการ | F6: จำนวนหน่วย | H6: ค่าวัสดุ | J6: ค่าแรง | L6: ค่าวัสดุและ | M6: หมายเหตุ
H7: ราคาต่อหน่วย | I7: เป็นเงิน | J7: ราคาต่อหน่วย | K7: เป็นเงิน | L7: ค่าแรงงาน
A8: 1 | B8: งานดิน
B9: ขุดดินฐานราก , ถมดิน | F9: 73 | G9: ม.3 | H9: 0 | I9: =INT(H9*F9) -> 0 | J9: 125 | K9: =INT(J9*F9) -> 9125 | L9: =K9+I9 -> 9125
B10: ทรายหยาบ | F10: 5 | G10: ม.3 | H10: 406.54 | I10: =INT(H10*F10) -> 2032 | J10: 99 | K10: =INT(J10*F10) -> 495 | L10: =K10+I10 -> 2527
B11: เสาเข็ม คอร. ไอ 0.18x0.18x6.00 ม | F11: 25 | G11: ต้น | H11: 897 | I11: =INT(H11*F11) -> 22425 | J11: 190 | K11: =INT(J11*F11) -> 4750 | L11: =K11+I11 -> 27175
A12: 2 | B12: งานคอนกรีต
B13: คอนกรีตหยาบ 1:3:5 | F13: 2.5 | G13: ม.3 | H13: 1705.61 | I13: =INT(H13*F13) -> 4264 | J13: 398 | K13: =INT(J13*F13) -> 995 | L13: =K13+I13 -> 5259
B14: คอนกรีต 1:2:4 | F14: 2.5 | G14: ม.3 | H14: 1799.07 | I14: =INT(H14*F14) -> 4497 | J14: 498 | K14: =INT(J14*F14) -> 1245 | L14: =K14+I14 -> 5742
B15: คอนกรีต 1:1.5:3 | F15: 13 | G15: ม.3 | H15: 2102 | I15: =INT(H15*F15) -> 27326 | J15: 498 | K15: =INT(J15*F15) -> 6474 | L15: =K15+I15 -> 33800
B16: ปูนทราย | F16: 2 | G16: ม.3 | H16: 1200 | I16: =INT(H16*F16) -> 2400 | J16: 436 | K16: =INT(J16*F16) -> 872 | L16: =K16+I16 -> 3272
A17: 3 | B17: งานไม้แบบ
B18: ไม้แบบหล่อคอนกรีตทั่วไป 70 % พร้อมไม้คร่าว | F18: 90 | G18: ม.2 | H18: 406 | I18: =INT(H18*F18) -> 36540 | J18: 133 | K18: =INT(J18*F18) -> 11970 | L18: =K18+I18 -> 48510
B19: ตะปู | F19: 23 | G19: กก. | H19: 27 | I19: =INT(H19*F19) -> 621 | J19: 0 | K19: =INT(J19*F19) -> 0 | L19: =K19+I19 -> 621
A20: 4 | B20: งานเหล็กเสริม
B21: เหล็กเส้นกลม Ø 9 มม. | F21: 948 | G21: กก. | H21: 17.13 | I21: =INT(H21*F21) -> 16239 | J21: 3.4 | K21: =INT(J21*F21) -> 3223 | L21: =K21+I21 -> 19462
B22: เหล็กเส้นกลม Ø 12 มม. | F22: 344 | G22: กก. | H22: 19.2 | I22: =INT(H22*F22) -> 6604 | J22: 3.4 | K22: =INT(J22*F22) -> 1169 | L22: =K22+I22 -> 7773
B23: ลวดผูกเหล็ก | F23: 39 | G23: กก. | H23: 24 | I23: =INT(H23*F23) -> 936 | J23: 0 | K23: =INT(J23*F23) -> 0 | L23: =K23+I23 -> 936
A24: 5 | B24: งานผนัง
B25: ฉาบปูนเรียบ | F25: 37 | G25: ม.2 | H25: ='[5]งานผิวผนัง-ผิวพื้น'!$D$2 -> 55 | I25: =INT(H25*F25) -> 2035 | J25: 82 | K25: =INT(J25*F25) -> 3034 | L25: =K25+I25 -> 5069
B26: ขัดมันพื้น | F26: 16 | G26: ม.2 | H26: ='[5]งานผิวผนัง-ผิวพื้น'!$D$6 -> 48 | I26: =INT(H26*F26) -> 768 | J26: 40 | K26: =INT(J26*F26) -> 640 | L26: =K26+I26 -> 1408
A27: 6 | B27: งานทาสี
B28: สีพลาสติก | F28: 34 | G28: ม.2 | H28: =[5]งานทาสี!$D$2 -> 35 | I28: =INT(H28*F28) -> 1190 | J28: 30 | K28: =INT(J28*F28) -> 1020 | L28: =K28+I28 -> 2210
B29: สีน้ำมัน | F29: 5 | G29: ม.2 | H29: =[5]งานทาสี!$D$3 -> 45 | I29: =INT(H29*F29) -> 225 | J29: 38 | K29: =INT(J29*F29) -> 190 | L29: =K29+I29 -> 415
B30: ทาซีเมนต์เบส | F30: 33 | G30: ม.2 | H30: 115 | I30: =INT(H30*F30) -> 3795 | J30: 40 | K30: =INT(J30*F30) -> 1320 | L30: =K30+I30 -> 5115
A31: 7 | B31: ท่อระบายอากาศ
B32: ท่อเหล็กอาบสังกะสี Ø 4 นิ้ว | F32: 0.17 | G32: ท่อน | H32: 2403 | I32: =INT(H32*F32) -> 408 | L32: =K32+I32 -> 408
B33: ข้องอ 90º เหล็กอาบสังกะสี Ø 4 นิ้ว | F33: 2 | G33: ตัว | H33: 382 | I33: =INT(H33*F33) -> 764 | L33: =K33+I33 -> 764
B34: สามทางเหล็กอาบสังกะสี Ø 4 นิ้ว | F34: 1 | G34: ตัว | H34: 526 | I34: =INT(H34*F34) -> 526 | K34: 320 | L34: =K34+I34 -> 846
B35: เทปพันเกลียว | F35: 2 | G35: ม้วน | H35: 12 | I35: =INT(H35*F35) -> 24 | L35: =K35+I35 -> 24
B36: ตะแกรงมุ้งลวดสแตนเลส | F36: 1 | G36: ชุด | H36: 90 | I36: =INT(H36*F36) -> 90 | L36: =K36+I36 -> 90
A37: 8 | B37: ท่อน้ำล้น
B38: ข้อลดกลมเหล็กอาบสังกะสี Ø 4 นิ้วx3 นิ้ว | F38: 1 | G38: ตัว | H38: 290 | I38: =INT(H38*F38) -> 290 | L38: =K38+I38 -> 290
B39: ข้องอ 90 0เหล็กอาบสังกะสี Ø 3 นิ้ว | F39: 2 | G39: ตัว | H39: 277 | I39: =INT(H39*F39) -> 554 | L39: =K39+I39 -> 554
B40: ท่อเหล็กอาบสังกะสี Ø 3 นิ้ว | F40: 0.17 | G40: ม. | H40: 1649 | I40: =INT(H40*F40) -> 280 | K40: 280 | L40: =K40+I40 -> 560
E41: รวมยอดยกไป | I41: =SUM(I9:I40) -> 134833 | K41: =SUM(K9:K40) -> 47122 | L41: =SUM(L9:L40) -> 181955
E42: รวมยอดยกมา | I42: =I41 -> 134833 | K42: =K41 -> 47122 | L42: =I42+K42 -> 181955
...

Sheet ท่อส่งน้ำดิบ 
A1: ประมาณราคาค่าก่อสร้าง | C1: ระบบท่อส่งน้ำดิบ
A2: ='แบบ ปร.6'!$A$2 -> สถานที่ก่อสร้าง | F2: แบบเลขที่ | H2: ,4001 | I2: รายการเลขที่
A3: ฝ่ายประมาณราคา | C3: ='แบบ ปร.6'!$A$4 -> สำนักบริหารจัดการน้ำ กรมทรัพยากรน้ำ
A4: =ทดสอบดิน!$A$4 -> 0 | F4: เมื่อวันที่ | G4: ='แบบ ปร.6'!$C$5 -> 37950
A6: ลำดับที่ | B6: รายการ | D6: จำนวนหน่วย | F6: ค่าวัสดุ | H6: ค่าแรง | J6: ค่าวัสดุและ | K6: หมายเหตุ
F7: ราคาต่อหน่วย | G7: เป็นเงิน | H7: ราคาต่อหน่วย | I7: เป็นเงิน | J7: ค่าแรงงาน
B8: 1. การเดินท่อส่งน้ำดิบจากเครื่องสูบน้ำดิบไปยังที่ตั้งระบบประปา
A9: 1.1 | B9: =[2]GS.!$B$9 -> ท่อเหล็กอาบสังกะสี+ข้อต่อยาว6ม. dia 3" | D9: 60 | E9: {=[2]GS.!$C$9:$D$9} -> ท่อน | F9: 1340 | G9: =IF(F9="-","-",D9*F9) -> 80400 | H9: =[2]GS.!$E$9 -> 100 | I9: =IF(H9="-","-",D9*H9) -> 6000 | J9: =SUM(G9,I9) -> 86400
A10: 1.2 | B10: =[2]GS.!$B$7 -> ท่อเหล็กอาบสังกะสี+ข้อต่อยาว6ม. dia 2" | E10: {=[2]GS.!$C$7:$D$7} -> ท่อน | F10: 814 | G10: =IF(F10="-","-",D10*F10) -> 0 | H10: =[2]GS.!$E$7 -> 100 | I10: =IF(H10="-","-",D10*H10) -> 0 | J10: =SUM(G10,I10) -> 0
A11: 1.3 | B11: =[2]GS.!$B$64 -> ข้อโค้งเหล็กอาบสังกะสี 90 ม-ม dia 3" | E11: {=[2]GS.!$C$64:$D$64} -> ตัว | F11: 394 | G11: =IF(F11="-","-",D11*F11) -> 0 | H11: - | I11: - | J11: =SUM(G11,I11) -> 0
A12: 1.4 | B12: =[2]GS.!$B$62 -> ข้อโค้งเหล็กอาบสังกะสี 90 ม-ม dia 2" | E12: {=[2]GS.!$C$62:$D$62} -> ตัว | F12: 135 | G12: =IF(F12="-","-",D12*F12) -> 0 | H12: - | I12: - | J12: =SUM(G12,I12) -> 0
A13: 1.5
B14: 2. การเดินจากฟุตวาล์วของท่อดูดไปยังปากท่อดูดของเครื่องสูบน้ำดิบ
A15: 2.1 | B15: =[2]GS.!$B$9 -> ท่อเหล็กอาบสังกะสี+ข้อต่อยาว6ม. dia 3" | E15: {=[2]GS.!$C$9:$D$9} -> ท่อน | F15: 1340 | G15: =IF(F15="-","-",D15*F15) -> 0 | H15: =[2]GS.!$E$9 -> 100 | I15: =IF(H15="-","-",D15*H15) -> 0 | J15: =SUM(G15,I15) -> 0
A16: 2.2 | B16: =[2]GS.!$B$64 -> ข้อโค้งเหล็กอาบสังกะสี 90 ม-ม dia 3" | E16: {=[2]GS.!$C$64:$D$64} -> ตัว | F16: 394 | G16: =IF(F16="-","-",D16*F16) -> 0 | H16: - | I16: - | J16: =SUM(G16,I16) -> 0
A17: 2.3 | B17: =[2]ฟุตวาล์ว!$B$9 -> ฟุตวาล์วทองเหลือง dia 3" | E17: {=[2]ฟุตวาล์ว!$C$9:$D$9} -> ชุด | F17: 750 | G17: =IF(F17="-","-",D17*F17) -> 0 | H17: - | I17: - | J17: =SUM(G17,I17) -> 0
A18: 2.4
B19: 3. เสารับท่อส่งน้ำดิบ
A20: 3.1 | B20: {='[2]อื่น ๆ'!$B$53:$B$54} -> สายยางอ่อน dia. 1/2 " | E20: {='[2]อื่น ๆ'!$C$53:$D$54} -> ม. | F20: 8 | G20: =IF(F20="-","-",D20*F20) -> 0 | H20: - | I20: - | J20: =SUM(G20,I20) -> 0
A21: 3.2 | B21: เสารับท่อส่งน้ำดิบ ด้านทางดูดน้ำ | E21: ช่วง | F21: 4500 | G21: =IF(F21="-","-",D21*F21) -> 0 | H21: - | I21: - | J21: =SUM(G21,I21) -> 0
A22: 3.3
C23: รวมยอดยกไป | G23: =SUM(G8:G22) -> 80400 | I23: =SUM(I8:I22) -> 6000 | J23: =SUM(J8:J22) -> 86400
C24: รวมยอดยกมา | G24: =SUM(G23) -> 80400 | I24: =SUM(I23) -> 6000 | J24: =SUM(G24,I24) -> 86400
B25: 4. อุปกรณ์อื่น ๆ
A26: 4.1 | B26: =[2]ประตูน้ำ!$B$49 -> ประตูน้ำเหล็กหล่อใต้ดิน-บนดิน ธรรมดา dia 10" | E26: {=[2]ประตูน้ำ!$C$49:$D$49} -> ชุด | F26: 9570 | G26: =IF(F26="-","-",D26*F26) -> 0 | H26: - | I26: - | J26: =SUM(G26,I26) -> 0
A27: 4.2
C30: รวมเงิน | G30: =SUM(G24:G29) -> 80400 | I30: =SUM(I24:I29) -> 6000 | J30: =SUM(J24:J29) -> 86400
C31: คิดเป็นเงินค่างาน | J31: =ROUNDDOWN(J30,0) -> 86400
A34: ประมาณราคาโดย………………………………………………………………. | F34: ตรวจ | G34: ………..…………………………………………...………….
B35: (………………………………………………………………) | G35: (………………………………………………………………)
A37: ตรวจ…………………………………………..…..………………. | F37: เห็นชอบ | G37: ………..…………………………………………...………….
B38: (………………………………………………………………) | G38: (………………………………………………………………)

Sheet หอถังสูง
A1: ประมาณราคาค่าก่อสร้าง | C1: หอถังสูงขนาด 15 ม.3/ชม. (ตอกเข็ม)
A2: ='[4]แบบ ปร.6'!$A$2 -> สถานที่ก่อสร้าง | C2: =โรงสูบน้ำ!C2 -> บ้านหัวตลาด หมู่ที่ 4 ตำบลสำพะเนียง อำเภอโนนแดง จังหวัดนครราชสีมา
A3: ส่วนเทคโนโลยีและมาตราฐาน | C3: =โรงสูบน้ำ!C3 -> สำนักบริหารจัดการน้ำ กรมทรัพยากรน้ำ | H3: แบบเลขที่ | I3: 3111015
A6: ลำดับที่ | B6: รายการ | D6: จำนวนหน่วย | F6: ค่าวัสดุ | H6: ค่าแรง | J6: ค่าวัสดุและ | K6: หมายเหตุ
F7: ราคาต่อหน่วย | G7: เป็นเงิน | H7: ราคาต่อหน่วย | I7: เป็นเงิน | J7: ค่าแรงงาน
B8: 1. งานดิน
A9: 1.1 | B9: ขุดดินหลุมฐานราก/ถมคืน | D9: 25 | E9: =[5]งานดิน!$C$2 -> ลบ.ม. | F9: =[5]งานดิน!$D$2 -> - | G9: =IF(F9="-","-",D9*F9) -> - | H9: 125 | I9: =IF(H9="-","-",H9*D9) -> 3125 | J9: =SUM(G9,I9) -> 3125
A10: 1.2 | B10: =[5]งานดิน!$B$6 -> ทรายหยาบ,ทรายหยาบรองพื้น | D10: 3 | E10: =[5]งานดิน!$C$6 -> ลบ.ม. | F10: 406.54 | G10: =IF(F10="-","-",D10*F10) -> 1219.62 | H10: 99 | I10: =IF(H10="-","-",H10*D10) -> 297 | J10: =SUM(G10,I10) -> 1516.62
B11: 2. งานแบบหล่อ
A12: 2.1 | B12: ไม้แบบหล่อคอนกรีตทั่วไป 50% พร้อมไม้คร่าว | D12: 220 | E12: =[5]งานแบบหล่อ!$C$3 -> ตร.ม. | F12: 290 | G12: =IF(F12="-","-",D12*F12) -> 63800 | H12: 154 | I12: =IF(H12="-","-",H12*D12) -> 33880 | J12: =SUM(G12,I12) -> 97680
A13: 2.2 | B13: ค้ำยันเสาไม้ dia 4" × 4.00 ม. (50%) | D13: 390 | E13: ต้น | F13: 32 | G13: =IF(F13="-","-",D13*F13) -> 12480 | H13: =[5]งานแบบหล่อ!$E$6 -> - | I13: =IF(H13="-","-",H13*D13) -> - | J13: =SUM(G13,I13) -> 12480
A14: 2.3 | B14: =[5]งานแบบหล่อ!$B$6 -> ตะปู | D14: 48 | E14: =[5]งานแบบหล่อ!$C$6 -> กก. | F14: 27 | G14: =IF(F14="-","-",D14*F14) -> 1296 | H14: =[5]งานแบบหล่อ!$E$6 -> - | I14: =IF(H14="-","-",H14*D14) -> - | J14: =SUM(G14,I14) -> 1296
B15: 3. งานคอนกรีต
A16: 3.1 | B16: =[5]งานคอนกรีต!$B$2 -> คอนกรีต 1 : 3 : 5 | D16: 0.5 | E16: =[5]งานคอนกรีต!$C$2 -> ลบ.ม. | F16: 1705.61 | G16: =IF(F16="-","-",D16*F16) -> 852.805 | H16: 398 | I16: =IF(H16="-","-",H16*D16) -> 199 | J16: =SUM(G16,I16) -> 1051.805
